BEGIN:VCALENDAR
VERSION:2.0
PRODID:-//wp-events-plugin.com//6.6.3//EN
TZID:Europe/Rome
X-WR-TIMEZONE:Europe/Rome
BEGIN:VEVENT
UID:260@municipiozero.it
DTSTART;TZID=Europe/Rome:20250228T000000
DTEND;TZID=Europe/Rome:20250228T000000
DTSTAMP:20250223T161534Z
URL:https://municipiozero.it/events/%f0%9d%96%a4-%f0%9d%96%ae%f0%9d%96%b1%
 f0%9d%96%a0-%f0%9d%96%af%f0%9d%96%a0%f0%9d%96%b1%f0%9d%96%ab%f0%9d%96%a8%f
 0%9d%96%a0%f0%9d%96%ac%f0%9d%96%ae-%f0%9d%96%a3%f0%9d%96%a8-%f0%9d%96%af%f
 0%9d%9f%a2/
SUMMARY:𝖤 𝖮𝖱𝖠 𝖯𝖠𝖱𝖫𝖨𝖠𝖬𝖮 𝖣𝖨 𝖯
 𝟢𝖱𝖭𝟢 - 𝖢𝖮𝖭 𝖫𝖨𝖣𝖨𝖠 𝖱𝖠𝖵𝖵𝖨
 𝖲𝖮 & 𝖡𝖠𝖣𝖲𝖤𝖤𝖣𝖹𝖨𝖭𝖤
DESCRIPTION:Venerdì 28 febbraio a TPO.\n\n𝗢𝗿𝗲 𝟭𝟵.𝟬𝟬 
 – 𝘈𝘱𝘦𝘳𝘵𝘶𝘳𝘢 𝘱𝘰𝘳𝘵𝘦 𝘱𝘦𝘳: 
 𝘢𝘱𝘦𝘳𝘪𝘵𝘪𝘷𝘰\, 𝘮𝘰𝘴𝘵𝘳𝘢 𝘦 𝘴
 𝘩𝘰𝘱𝘱𝘪𝘯𝘨 𝘵𝘳𝘢 𝘪 𝘣𝘢𝘯𝘤𝘩𝘦
 𝘵𝘵𝘪 𝘋𝘐𝘠 𝗢𝗿𝗲 𝟮𝟬.𝟬𝟬 – 𝘐𝘯𝘪
 𝘻𝘪𝘰 𝘵𝘢𝘭𝘬 𝗰𝗼𝗻 𝗟𝗶𝗱𝗶𝗮 𝗥𝗮
 𝘃𝘃𝗶𝘀𝗼 &amp\; 𝘱𝘳𝘦𝘴𝘦𝘯𝘵𝘢𝘻𝘪𝘰
 𝘯𝘦 𝗕𝗮𝗱𝗦𝗲𝗲𝗱\n𝗢𝗿𝗲 𝟮𝟭.𝟬𝟬 – 
 𝘗𝘳𝘰𝘪𝘦𝘻𝘪𝘰𝘯𝘦 𝘥𝘦𝘭 𝗹𝘂𝗻𝗴𝗼
 𝗺𝗲𝘁𝗿𝗮𝗴𝗴𝗶𝗼 𝗧𝗵𝗲 𝗩𝗶𝘀𝗶𝘁𝗼
 𝗿\n𝗢𝗿𝗲 𝟮𝟮:𝟰𝟱 – 𝘥𝘰𝘮𝘢𝘯𝘥𝘦 𝘥
 𝘢𝘭 𝘱𝘶𝘣𝘣𝘭𝘪𝘤𝘰
ATTACH;FMTTYPE=image/jpeg:https://municipiozero.it/wp-content/uploads/2025
 /02/photo_2025-02-23_17-14-34.jpg
CATEGORIES:Tpo
LOCATION:Tpo\, Via Casarini 17/5\, Bologna\, Italia
X-APPLE-STRUCTURED-LOCATION;VALUE=URI;X-ADDRESS=Via Casarini 17/5\, Bologna
 \, Italia;X-APPLE-RADIUS=100;X-TITLE=Tpo:geo:0,0
END:VEVENT
BEGIN:VTIMEZONE
TZID:Europe/Rome
X-LIC-LOCATION:Europe/Rome
BEGIN:STANDARD
DTSTART:20241027T020000
TZOFFSETFROM:+0200
TZOFFSETTO:+0100
TZNAME:CET
END:STANDARD
END:VTIMEZONE
END:VCALENDAR