BEGIN:VCALENDAR
VERSION:2.0
PRODID:-//wp-events-plugin.com//6.6.3//EN
TZID:Europe/Rome
X-WR-TIMEZONE:Europe/Rome
BEGIN:VEVENT
UID:158@municipiozero.it
DTSTART;TZID=Europe/Rome:20240919T190000
DTEND;TZID=Europe/Rome:20240919T210000
DTSTAMP:20240910T131750Z
URL:https://municipiozero.it/events/%f0%9d%97%9a%f0%9d%97%b6%f0%9d%97%bc%f
 0%9d%98%83%f0%9d%97%ae%f0%9d%97%bb%f0%9d%97%b6-%f0%9d%97%b1%f0%9d%97%ae%f0
 %9d%97%b9%f0%9d%97%b9%f0%9d%97%ae-%f0%9d%98%80%f0%9d%97%b0%f0%9d%98%82%f0%
 9d%97%bc/
SUMMARY:𝗚𝗶𝗼𝘃𝗮𝗻𝗶\, 𝗱𝗮𝗹𝗹𝗮 𝘀𝗰𝘂
 𝗼𝗹𝗮 𝗮𝗹 𝗰𝗮𝗿𝗰𝗲𝗿𝗲: 𝗰𝗼𝗺𝗲 𝗿
 𝗲𝘀𝗶𝘀𝘁𝗲𝗿𝗲 𝗮𝗹 𝗗𝗲𝗰𝗿𝗲𝘁𝗼 
 𝗖𝗮𝗶𝘃𝗮𝗻𝗼? - TPO
DESCRIPTION:Giovedì 19 settembre alle 19 al TPO\, via Casarini 17/5.\n\nA 
 un anno dall’approvazione del cosiddetto Decreto Caivano e a dieci mesi 
 dalla sua conversione in legge\, invitiamo a un incontro pubblico per rifl
 ettere insieme sulle sue conseguenze per i giovani\, dalla scuola al carce
 re.\n\nL’incontro intende informare sulle nuove disposizioni di legge e 
 avviare un confronto collettivo per elaborare e connettere insieme pratich
 e non criminalizzanti.\n\nInvitiamo le realtà maggiormente impattate da q
 ueste disposizioni\, le comunità educanti che si stanno formando in quest
 a città\, chi si occupa di sostanze\, digitale\, carcere\, scuola\, educa
 zione\, per raccontare le proprie esperienze e porre pubblicamente la doma
 nda: come resistiamo al Decreto Caivano?\n\nSaranno presenti:\n\n 	Elia De
  Caro\, Antigone Emilia Romagna. Antigone ha curato un documento sul Decre
 to Caivano\n 	Alessandro Bozzetti\, Università di Bologna\, Dipartimento 
 di Scienze Politiche e Sociali\n
ATTACH;FMTTYPE=image/jpeg:https://municipiozero.it/wp-content/uploads/2024
 /09/photo_5981115356003025676_x.jpg
CATEGORIES:Tpo
END:VEVENT
BEGIN:VTIMEZONE
TZID:Europe/Rome
X-LIC-LOCATION:Europe/Rome
BEGIN:DAYLIGHT
DTSTART:20240331T030000
TZOFFSETFROM:+0100
TZOFFSETTO:+0200
TZNAME:CEST
END:DAYLIGHT
END:VTIMEZONE
END:VCALENDAR