BEGIN:VCALENDAR
VERSION:2.0
PRODID:-//wp-events-plugin.com//6.6.3//EN
TZID:Europe/Rome
X-WR-TIMEZONE:Europe/Rome
BEGIN:VEVENT
UID:21@municipiozero.it
DTSTART;TZID=Europe/Rome:20231115T180000
DTEND;TZID=Europe/Rome:20231115T233000
DTSTAMP:20231113T140457Z
URL:https://municipiozero.it/events/11-anni-di-labas/
SUMMARY:11 ANNI DI LÀBAS
DESCRIPTION:Il 13 Novembre 2012 Làbas dava nuova vita all'ex Caserma Masin
 i\, in via Orfeo 46 a Bologna\, abbandonata da anni e lasciata alla polver
 e. In occupazione fino al violento sgombero dell’8 agosto 2017\, per il 
 quale su 9 compagn* pendono condanne per 88 mesi di reclusione\, Làbas ha
  prodotto una lunga serie di lotte\, progetti di mutualismo\, cooperazione
  sociale e conflitti.\n\nDopo lo sgombero\, la manifestazione #RIAPRIAMOLA
 BAS ha portato in piazza oltre 15mila persone\, e Làbas ha conquistato l
 ’attuale spazio in Vicolo Bolognetti 2\, dove continuano a germinare lot
 te\, conflitti\, progetti e sogni.\n\nMercoledì 15 novembre\, a 11 anni d
 all’inizio di questa piccola grande storia\, festeggeremo durante la con
 sueta apertura serale settimanale.\n𝐏𝐑𝐎𝐆𝐑𝐀𝐌𝐌𝐀 
 𝐃𝐄𝐋𝐋𝐀 𝐆𝐈𝐎𝐑𝐍𝐀𝐓𝐀:\n\n▲ 𝘥𝘢𝘭
 𝘭𝘦 18.00\n𝑩𝒂𝒏𝒄𝒉𝒆𝒕𝒕𝒊 𝒆 𝒂𝒖𝒕𝒐
 𝒑𝒓𝒐𝒅𝒖𝒛𝒊𝒐𝒏𝒊! 𝑆𝑒 𝑣𝑢𝑜𝑖 𝑝
 𝑎𝑟𝑡𝑒𝑐𝑖𝑝𝑎𝑟𝑒\, 𝑚𝑎𝑛𝑑𝑎 𝑙𝑎 
 𝑡𝑢𝑎 𝑐𝑎𝑛𝑑𝑖𝑑𝑎𝑡𝑢𝑟𝑎 𝑎 𝑙𝑎
 𝑏𝑎𝑠.𝑏𝑜@𝑔𝑚𝑎𝑖𝑙.𝑐𝑜𝑚\n𝑴𝒐𝒔𝒕
 𝒓𝒂 𝒇𝒐𝒕𝒐𝒈𝒓𝒂𝒇𝒊𝒄𝒂 𝒅𝒆𝒊 𝒑
 𝒓𝒐𝒈𝒆𝒕𝒕𝒊\, 𝒅𝒆𝒍𝒍𝒆 𝒍𝒐𝒕𝒕𝒆 
 𝒆 𝒅𝒆𝒍𝒍𝒂 𝒂𝒕𝒕𝒊𝒗𝒊𝒕𝒂̀ 𝒅𝒆𝒍 
 𝒎𝒖𝒏𝒊𝒄𝒊𝒑𝒊𝒐 𝒔𝒐𝒄𝒊𝒂𝒍𝒆 𝑳𝒂
 ̀𝒃𝒂𝒔!\n𝑮𝒓𝒂𝒏𝒅𝒆 𝒕𝒐𝒓𝒏𝒆𝒐 𝒅
 𝒊 𝒃𝒊𝒍𝒊𝒂𝒓𝒅𝒊𝒏𝒐 "𝑪𝒂𝒍𝒄𝒊𝒂 
 𝒊𝒍 𝒃𝒂𝒍𝒊𝒍𝒍𝒂!"\n▲ 𝘥𝘢𝘭𝘭𝘦 20.00 la
  cucina propone  il ritorno della pizza di Làbas!\n▲ 𝘥𝘢𝘭𝘭
 𝘦 21.00  𝐇𝟐𝟏 𝐏𝐀𝐍𝐃𝐀 𝐂𝐋𝐀𝐍\nIl colle
 ttivo milanese electro/rock/dub a tratti metal più misterioso e undergrou
 nd degli ultimi tempi\n\nLàbas non si tocca. W Làbas!
ATTACH;FMTTYPE=image/jpeg:https://municipiozero.it/wp-content/uploads/2023
 /11/11-anni.jpeg
CATEGORIES:Làbas
END:VEVENT
BEGIN:VTIMEZONE
TZID:Europe/Rome
X-LIC-LOCATION:Europe/Rome
BEGIN:STANDARD
DTSTART:20231029T020000
TZOFFSETFROM:+0200
TZOFFSETTO:+0100
TZNAME:CET
END:STANDARD
END:VTIMEZONE
END:VCALENDAR