BEGIN:VCALENDAR
VERSION:2.0
PRODID:-//wp-events-plugin.com//6.6.3//EN
TZID:Europe/Rome
X-WR-TIMEZONE:Europe/Rome
BEGIN:VEVENT
UID:214@municipiozero.it
DTSTART;TZID=Europe/Rome:20241113T180000
DTEND;TZID=Europe/Rome:20241113T233000
DTSTAMP:20241107T171108Z
URL:https://municipiozero.it/events/12esimo-compleanno-di-labas/
SUMMARY:12esimo compleanno di Làbas
DESCRIPTION:Mercoledì 13 novembre festeggiamo 12 anni di Làbas!\n\nStarti
 ng h.18\n\npizza h.20\n\nlive h.21 Super Mauro Brothers - Dj Balli
ATTACH;FMTTYPE=image/jpeg:https://municipiozero.it/wp-content/uploads/2024
 /11/12-anno-compleanno-2-scaled.jpg
CATEGORIES:Làbas
LOCATION:Làbas\, Vicolo Bolognetti 2\, Bologna\, Italia
X-APPLE-STRUCTURED-LOCATION;VALUE=URI;X-ADDRESS=Vicolo Bolognetti 2\, Bolog
 na\, Italia;X-APPLE-RADIUS=100;X-TITLE=Làbas:geo:0,0
END:VEVENT
BEGIN:VTIMEZONE
TZID:Europe/Rome
X-LIC-LOCATION:Europe/Rome
BEGIN:STANDARD
DTSTART:20241027T020000
TZOFFSETFROM:+0200
TZOFFSETTO:+0100
TZNAME:CET
END:STANDARD
END:VTIMEZONE
END:VCALENDAR