BEGIN:VCALENDAR
VERSION:2.0
PRODID:-//wp-events-plugin.com//6.6.3//EN
TZID:Europe/Rome
X-WR-TIMEZONE:Europe/Rome
BEGIN:VEVENT
UID:343@municipiozero.it
DTSTART;TZID=Europe/Rome:20251112T180000
DTEND;TZID=Europe/Rome:20251112T233000
DTSTAMP:20251109T140951Z
URL:https://municipiozero.it/events/13anni-12novembre/
SUMMARY:13anni/12novembre
DESCRIPTION:Mercoledì 12 novembre è il tredicesimo compleanno di Làbas. 
 A partire dalle 21.00 live FUCKSIA e GHETTO ZDAURE!
ATTACH;FMTTYPE=image/jpeg:https://municipiozero.it/wp-content/uploads/2025
 /11/1312.png
CATEGORIES:Làbas
LOCATION:Làbas\, Vicolo Bolognetti 2\, Bologna\, Italia
X-APPLE-STRUCTURED-LOCATION;VALUE=URI;X-ADDRESS=Vicolo Bolognetti 2\, Bolog
 na\, Italia;X-APPLE-RADIUS=100;X-TITLE=Làbas:geo:0,0
END:VEVENT
BEGIN:VTIMEZONE
TZID:Europe/Rome
X-LIC-LOCATION:Europe/Rome
BEGIN:STANDARD
DTSTART:20251026T020000
TZOFFSETFROM:+0200
TZOFFSETTO:+0100
TZNAME:CET
END:STANDARD
END:VTIMEZONE
END:VCALENDAR