BEGIN:VCALENDAR
VERSION:2.0
PRODID:-//wp-events-plugin.com//6.6.3//EN
TZID:Europe/Rome
X-WR-TIMEZONE:Europe/Rome
BEGIN:VEVENT
UID:105@municipiozero.it
DTSTART;TZID=Europe/Rome:20240410T190000
DTEND;TZID=Europe/Rome:20240410T210000
DTSTAMP:20240402T103637Z
URL:https://municipiozero.it/events/6702/
SUMMARY:ASSEMBLEA CITTADINA verso Reclaim The Tech e G7 Scienza e Tecnologi
 a di luglio
DESCRIPTION:Mercoledì 10 aprile h. 19 a Làbas – Municipio Sociale\n\nIn
 vitiamo tutt* in assemblea a Làbas per costruire insieme la seconda edizi
 one del festival Reclaim The Tech (RTT)\, e iniziare il confronto verso 
 il G7 di luglio.\n\nQui il testo di convocazione dell'assemblea.
ATTACH;FMTTYPE=image/jpeg:https://municipiozero.it/wp-content/uploads/2024
 /04/photo_5783037000524349424_y.jpg
CATEGORIES:Làbas
LOCATION:Làbas\, Vicolo Bolognetti 2\, Bologna\, Italia
X-APPLE-STRUCTURED-LOCATION;VALUE=URI;X-ADDRESS=Vicolo Bolognetti 2\, Bolog
 na\, Italia;X-APPLE-RADIUS=100;X-TITLE=Làbas:geo:0,0
END:VEVENT
BEGIN:VTIMEZONE
TZID:Europe/Rome
X-LIC-LOCATION:Europe/Rome
BEGIN:DAYLIGHT
DTSTART:20240331T030000
TZOFFSETFROM:+0100
TZOFFSETTO:+0200
TZNAME:CEST
END:DAYLIGHT
END:VTIMEZONE
END:VCALENDAR