BEGIN:VCALENDAR
VERSION:2.0
PRODID:-//wp-events-plugin.com//6.6.3//EN
TZID:Europe/Rome
X-WR-TIMEZONE:Europe/Rome
BEGIN:VEVENT
UID:297@municipiozero.it
DTSTART;TZID=Europe/Rome:20250710T193000
DTEND;TZID=Europe/Rome:20250710T210000
DTSTAMP:20250702T114407Z
URL:https://municipiozero.it/events/a-bologna-fa-caldo-ma-che-caldo-fa/
SUMMARY:A Bologna fa caldo. Ma che caldo fa?
DESCRIPTION:Il 10 luglio pedaleremo insieme.\nCon una biciclettata climatti
 vista che parte da Làbas alle 19.30\, attraverseremo la città con sensor
 i meteo-climatici\, per studiare insieme l’isola di calore\, il microcli
 ma urbano\, per riappropriarci collettivamente della tecnologia tutte e tu
 tti.\nSciame di bici\, stormi di droni. Siateci.\n\nVogliamo dati aperti e
  accessibili\, perché non possiamo affrontare l’emergenza climatica con
  mappe chiuse in un cassetto o con stazioni abbandonate e senza dati come 
 quella del Marconi.\nSiamo scienziatə\, sanitariə\, ricercatrici\, dotto
 randə. Ma siamo anche attiviste. Mettiamo a disposizione i nostri studi p
 er trasformare le città. Perché il tempo del parlare è finito. È ora d
 i fare e pretendiamo venga fatto.
ATTACH;FMTTYPE=image/jpeg:https://municipiozero.it/wp-content/uploads/2025
 /07/bici.jpg
CATEGORIES:Action
LOCATION:Làbas\, Vicolo Bolognetti 2\, Bologna\, Italia
X-APPLE-STRUCTURED-LOCATION;VALUE=URI;X-ADDRESS=Vicolo Bolognetti 2\, Bolog
 na\, Italia;X-APPLE-RADIUS=100;X-TITLE=Làbas:geo:0,0
END:VEVENT
BEGIN:VTIMEZONE
TZID:Europe/Rome
X-LIC-LOCATION:Europe/Rome
BEGIN:DAYLIGHT
DTSTART:20250330T030000
TZOFFSETFROM:+0100
TZOFFSETTO:+0200
TZNAME:CEST
END:DAYLIGHT
END:VTIMEZONE
END:VCALENDAR