BEGIN:VCALENDAR
VERSION:2.0
PRODID:-//wp-events-plugin.com//6.6.3//EN
TZID:Europe/Rome
X-WR-TIMEZONE:Europe/Rome
BEGIN:VEVENT
UID:53@municipiozero.it
DTSTART;TZID=Europe/Rome:20240221T190000
DTEND;TZID=Europe/Rome:20240221T220000
DTSTAMP:20240123T133445Z
URL:https://municipiozero.it/events/ai-cafe-prompting-di-immagini/
SUMMARY:Ai Café - Prompting di immagini
DESCRIPTION:Ai Café - febbraio 2024 - Municipio zero\n\n21 febbraio 2024 o
 re 19.00 Làbas\nPrompting di immagini – istruzioni pratiche per utilizz
 are l’ai per la generazione di immagini\ncon Francesco D’Isa\, artista
  e formatore all’uso della AI\, autore di Sunyata e altre opere\n\nPro
 durre immagini\, fare arte\, fare attivismo con le AI. Con Francesco D’
 Isa condivideremo alcune tecniche\nbasilari per far generare immagini con
  i sistemi di intelligenza artificiale\, in particolare quelli open source
 .\nL’incontro è aperto a chi desidera risparmiare ore di lavoro e a chi
  desidera usare l’AI in maniera sovversiva.\nSi richiede una iscrizione 
 al seguente form.
ATTACH;FMTTYPE=image/jpeg:https://municipiozero.it/wp-content/uploads/2024
 /01/e4ddceb7-7deb-4ea9-b9b3-53ec4c5ca249.jpg
CATEGORIES:Làbas
LOCATION:Làbas\, Vicolo Bolognetti 2\, Bologna\, Italia
X-APPLE-STRUCTURED-LOCATION;VALUE=URI;X-ADDRESS=Vicolo Bolognetti 2\, Bolog
 na\, Italia;X-APPLE-RADIUS=100;X-TITLE=Làbas:geo:0,0
END:VEVENT
BEGIN:VTIMEZONE
TZID:Europe/Rome
X-LIC-LOCATION:Europe/Rome
BEGIN:STANDARD
DTSTART:20231029T020000
TZOFFSETFROM:+0200
TZOFFSETTO:+0100
TZNAME:CET
END:STANDARD
END:VTIMEZONE
END:VCALENDAR