BEGIN:VCALENDAR
VERSION:2.0
PRODID:-//wp-events-plugin.com//6.6.3//EN
TZID:Europe/Rome
X-WR-TIMEZONE:Europe/Rome
BEGIN:VEVENT
UID:347@municipiozero.it
DTSTART;TZID=Europe/Rome:20251205T210000
DTEND;TZID=Europe/Rome:20251205T233000
DTSTAMP:20251130T110113Z
URL:https://municipiozero.it/events/aperitivo-di-natale-della-palestra-pop
 olare-tpo/
SUMMARY:Aperitivo di Natale della palestra popolare TPO
DESCRIPTION:Blindate questo appuntamento in agenda\, ci vediamo VENERDI 5 D
 ICEMBRE ore 21:00\, nella sala grande del TPO
ATTACH;FMTTYPE=image/jpeg:https://municipiozero.it/wp-content/uploads/2025
 /11/pale-5-pdf.jpg
CATEGORIES:Tpo
LOCATION:Tpo\, Via Casarini 17/5\, Bologna\, Italia
X-APPLE-STRUCTURED-LOCATION;VALUE=URI;X-ADDRESS=Via Casarini 17/5\, Bologna
 \, Italia;X-APPLE-RADIUS=100;X-TITLE=Tpo:geo:0,0
END:VEVENT
BEGIN:VTIMEZONE
TZID:Europe/Rome
X-LIC-LOCATION:Europe/Rome
BEGIN:STANDARD
DTSTART:20251026T020000
TZOFFSETFROM:+0200
TZOFFSETTO:+0100
TZNAME:CET
END:STANDARD
END:VTIMEZONE
END:VCALENDAR