BEGIN:VCALENDAR
VERSION:2.0
PRODID:-//wp-events-plugin.com//6.6.3//EN
TZID:Europe/Rome
X-WR-TIMEZONE:Europe/Rome
BEGIN:VEVENT
UID:132@municipiozero.it
DTSTART;TZID=Europe/Rome:20240524T160000
DTEND;TZID=Europe/Rome:20240524T230000
DTSTAMP:20240516T163627Z
URL:https://municipiozero.it/events/artigrafie-iv-public-invasion/
SUMMARY:ARTIGRAFIE IV - PUBLIC INVASION
DESCRIPTION:Dopo tre edizioni di rodaggio tra le mura di Làbas\, il quarto
  appuntamento di Artigrafie è pronto a invadere le piazze!\n\n 	Come far 
 dialogare insieme diversi tipi di espressione artistica\, diversi modi del
 l'arte di stare nello spazio pubblico?\n 	Come aprire un dibattito sulla d
 iffusione dell'arte in questo spazio?\n 	Come interrogarsi\, attraverso l'
 espressione artistica\, sulle trasformazioni che stanno investendo la citt
 à di Bologna\, a partire dalla proliferazione di cantieri aperti in ogni 
 dove?\n\nCome\, infine\, rendere attraversabile una piazza pubblica affinc
 hè tutte possano sentirsi libere di essere se stesse ed esprimersi fino i
 n fondo?\n\nCi vediamo venerdì 24 maggio dalle 16 in Piazza Scaravilli\, 
 non mancare!\n\n&nbsp\;
ATTACH;FMTTYPE=image/jpeg:https://municipiozero.it/wp-content/uploads/2024
 /05/photo_5922349775213151084_x.jpg
CATEGORIES:Action
END:VEVENT
BEGIN:VTIMEZONE
TZID:Europe/Rome
X-LIC-LOCATION:Europe/Rome
BEGIN:DAYLIGHT
DTSTART:20240331T030000
TZOFFSETFROM:+0100
TZOFFSETTO:+0200
TZNAME:CEST
END:DAYLIGHT
END:VTIMEZONE
END:VCALENDAR