BEGIN:VCALENDAR
VERSION:2.0
PRODID:-//wp-events-plugin.com//6.6.3//EN
TZID:Europe/Rome
X-WR-TIMEZONE:Europe/Rome
BEGIN:VEVENT
UID:94@municipiozero.it
DTSTART;TZID=Europe/Rome:20240322T150000
DTEND;TZID=Europe/Rome:20240322T230000
DTSTAMP:20240317T193506Z
URL:https://municipiozero.it/events/artigrafie-space-faktory/
SUMMARY:ARTIGRAFIE - Space Faktory
DESCRIPTION:Venerdì 22 marzo dalle 15 a Làbas\, vicolo Bolognetti 2\, Bol
 ogna.\n\nPowered by Space Faktory - Kantiere dei saperi\n\ndalle 15 - Birr
 ette\, autoproduzioni\, live painting e Space Faktory da esplorare\n\nalle
  18:30 - Quali nuovi immaginari urbani possiamo costruire? con Edoardo Cre
 scini\, UniPd\n\ndalle 21 - Live Music &amp\; AV\n\n/HHHHH/ - Improv elett
 roacustica + Live AV\n\nJumpo (Sumo music) - dj set\n\nEkappa - dj set\n\n
 Live AV - j______y
ATTACH;FMTTYPE=image/jpeg:https://municipiozero.it/wp-content/uploads/2024
 /03/photo_6032758059949998388_y.jpg
CATEGORIES:Làbas
LOCATION:Làbas\, Vicolo Bolognetti 2\, Bologna\, Italia
X-APPLE-STRUCTURED-LOCATION;VALUE=URI;X-ADDRESS=Vicolo Bolognetti 2\, Bolog
 na\, Italia;X-APPLE-RADIUS=100;X-TITLE=Làbas:geo:0,0
END:VEVENT
BEGIN:VTIMEZONE
TZID:Europe/Rome
X-LIC-LOCATION:Europe/Rome
BEGIN:STANDARD
DTSTART:20231029T020000
TZOFFSETFROM:+0200
TZOFFSETTO:+0100
TZNAME:CET
END:STANDARD
END:VTIMEZONE
END:VCALENDAR