BEGIN:VCALENDAR
VERSION:2.0
PRODID:-//wp-events-plugin.com//6.6.3//EN
TZID:Europe/Rome
X-WR-TIMEZONE:Europe/Rome
BEGIN:VEVENT
UID:342@municipiozero.it
DTSTART;TZID=Europe/Rome:20251115T094500
DTEND;TZID=Europe/Rome:20251115T140000
DTSTAMP:20251108T144315Z
URL:https://municipiozero.it/events/assemblea-nazionale-contro-i-re-e-le-l
 oro-guerre/
SUMMARY:Assemblea nazionale contro i Re e le loro guerre
DESCRIPTION:Sabato 15 novembre\, alle 9.30 a Roma.
ATTACH;FMTTYPE=image/jpeg:https://municipiozero.it/wp-content/uploads/2025
 /11/assemblea-naz.jpg
CATEGORIES:Action
LOCATION:https://www.bing.com/maps/search?FORM=HDRSC6&q=roma&cp=41.903018%7
 E12.546201&lvl=9.9&style=r
END:VEVENT
BEGIN:VTIMEZONE
TZID:Europe/Rome
X-LIC-LOCATION:Europe/Rome
BEGIN:STANDARD
DTSTART:20251026T020000
TZOFFSETFROM:+0200
TZOFFSETTO:+0100
TZNAME:CET
END:STANDARD
END:VTIMEZONE
END:VCALENDAR