BEGIN:VCALENDAR
VERSION:2.0
PRODID:-//wp-events-plugin.com//6.6.3//EN
TZID:Europe/Rome
X-WR-TIMEZONE:Europe/Rome
BEGIN:VEVENT
UID:324@municipiozero.it
DTSTART;TZID=Europe/Rome:20251025T000000
DTEND;TZID=Europe/Rome:20251025T000000
DTSTAMP:20251017T182059Z
URL:https://municipiozero.it/events/assemblea-nazionale-di-rete-kurdistan-
 italia-2/
SUMMARY:Assemblea nazionale di Rete Kurdistan Italia
DESCRIPTION:Sabato 25 ottobre alle ore 10 al TPO.
ATTACH;FMTTYPE=image/jpeg:https://municipiozero.it/wp-content/uploads/2025
 /10/photo_2025-10-17_16-43-57.jpg
CATEGORIES:Tpo
LOCATION:Tpo\, Via Casarini 17/5\, Bologna\, Italia
X-APPLE-STRUCTURED-LOCATION;VALUE=URI;X-ADDRESS=Via Casarini 17/5\, Bologna
 \, Italia;X-APPLE-RADIUS=100;X-TITLE=Tpo:geo:0,0
END:VEVENT
BEGIN:VTIMEZONE
TZID:Europe/Rome
X-LIC-LOCATION:Europe/Rome
BEGIN:DAYLIGHT
DTSTART:20250330T030000
TZOFFSETFROM:+0100
TZOFFSETTO:+0200
TZNAME:CEST
END:DAYLIGHT
END:VTIMEZONE
END:VCALENDAR