BEGIN:VCALENDAR
VERSION:2.0
PRODID:-//wp-events-plugin.com//6.6.3//EN
TZID:Europe/Rome
X-WR-TIMEZONE:Europe/Rome
BEGIN:VEVENT
UID:264@municipiozero.it
DTSTART;TZID=Europe/Rome;VALUE=DATE:20250315
DTEND;TZID=Europe/Rome;VALUE=DATE:20250317
DTSTAMP:20250302T130103Z
URL:https://municipiozero.it/events/assemblea-pubblica-del-network-against
 -migrant-detention-roma/
SUMMARY:Assemblea pubblica del Network Against Migrant Detention - Roma
DESCRIPTION:Invito ad una mobilitazione transnazionale in Europa\nAssemblea
  pubblica a SpinTime\, Roma\, sabato 15 e domenica 16 marzo 2025.\n\nIl Ne
 twork Against Migrant Detention è una rete di attivistə transnazionale c
 he chiede\nl’abolizione della detenzione amministrativa delle persone mi
 granti\, in Italia\, in Albania\, in tutta\nEuropa e ovunque.
ATTACH;FMTTYPE=image/jpeg:https://municipiozero.it/wp-content/uploads/2025
 /03/photo_2025-03-01_14-44-42.jpg
CATEGORIES:Action
LOCATION:https://www.bing.com/maps?&ty=30&q=roma&satid=id.sid%3A5ed498af-fa
 85-2a88-874d-212494ddb06f&vdpid=7215943137045250049&mb=42.155258~12.028493
 ~41.649776~13.06391&cardbg=%23F98745&tt=Roma%2C%20Roma%2C%20Lazio%2C%20Ita
 lia&tsts0=%2526ty%253D30%2526q%253Droma%2526satid%253Did.sid%25253A5ed498a
 f-fa85-2a88-874d-212494ddb06f%2526vdpid%253D7215943137045250049%2526mb%253
 D42.155258~12.028493~41.649776~13.06391%2526cardbg%253D%252523F98745&tstt0
 =Roma%2C%20Roma%2C%20Lazio%2C%20Italia&cp=41.903679~12.215356&lvl=10.04155
 35&pi=0&ftst=0&ftics=False&v=2&sV=2&form=S00027
END:VEVENT
BEGIN:VTIMEZONE
TZID:Europe/Rome
X-LIC-LOCATION:Europe/Rome
BEGIN:STANDARD
DTSTART:20241027T020000
TZOFFSETFROM:+0200
TZOFFSETTO:+0100
TZNAME:CET
END:STANDARD
END:VTIMEZONE
END:VCALENDAR