BEGIN:VCALENDAR
VERSION:2.0
PRODID:-//wp-events-plugin.com//6.6.3//EN
TZID:Europe/Rome
X-WR-TIMEZONE:Europe/Rome
BEGIN:VEVENT
UID:98@municipiozero.it
DTSTART;TZID=Europe/Rome:20240326T193000
DTEND;TZID=Europe/Rome:20240326T213000
DTSTAMP:20240324T130251Z
URL:https://municipiozero.it/events/assemblea-pubblica-verso-il-25-aprile/
SUMMARY:ASSEMBLEA PUBBLICA VERSO IL 25 APRILE
DESCRIPTION:Costruiamo insieme un 25 aprile per la Palestina!\n\nCi vediamo
  martedì 26 marzo alle h19.30 al 38 di via Zamboni
ATTACH;FMTTYPE=image/jpeg:https://municipiozero.it/wp-content/uploads/2024
 /03/photo_5767072723049234265_x.jpg
CATEGORIES:Action
END:VEVENT
BEGIN:VTIMEZONE
TZID:Europe/Rome
X-LIC-LOCATION:Europe/Rome
BEGIN:STANDARD
DTSTART:20231029T020000
TZOFFSETFROM:+0200
TZOFFSETTO:+0100
TZNAME:CET
END:STANDARD
END:VTIMEZONE
END:VCALENDAR