BEGIN:VCALENDAR
VERSION:2.0
PRODID:-//wp-events-plugin.com//6.6.3//EN
TZID:Europe/Rome
X-WR-TIMEZONE:Europe/Rome
BEGIN:VEVENT
UID:358@municipiozero.it
DTSTART;TZID=Europe/Rome:20260112T130000
DTEND;TZID=Europe/Rome:20260112T133000
DTSTAMP:20260109T095320Z
URL:https://municipiozero.it/events/basta-sfratti-diritto-allabitare-ora/
SUMMARY:Basta sfratti. Diritto all'abitare\, ora!
DESCRIPTION:Conferenza stampa lunedì 12 gennaio ore 13 a Palazzo d'Accursi
 o.
ATTACH;FMTTYPE=image/jpeg:https://municipiozero.it/wp-content/uploads/2026
 /01/conf.jpg
CATEGORIES:Action
LOCATION:https://www.bing.com/maps/search?FORM=HDRSC6&q=palazzo+d%27accursi
 o&cp=44.493946%7E11.342346&lvl=16&style=r
END:VEVENT
BEGIN:VTIMEZONE
TZID:Europe/Rome
X-LIC-LOCATION:Europe/Rome
BEGIN:STANDARD
DTSTART:20251026T020000
TZOFFSETFROM:+0200
TZOFFSETTO:+0100
TZNAME:CET
END:STANDARD
END:VTIMEZONE
END:VCALENDAR