BEGIN:VCALENDAR
VERSION:2.0
PRODID:-//wp-events-plugin.com//6.6.3//EN
TZID:Europe/Rome
X-WR-TIMEZONE:Europe/Rome
BEGIN:VEVENT
UID:345@municipiozero.it
DTSTART;TZID=Europe/Rome:20251120T070000
DTEND;TZID=Europe/Rome:20251120T130000
DTSTAMP:20251111T095712Z
URL:https://municipiozero.it/events/blocchiamo-lo-sfratto-di-helena-2/
SUMMARY:Blocchiamo lo sfratto di Helena!
DESCRIPTION:Appuntamento giovedì 20 novembre alle ore 7 in via Nicolò dal
 l'Arca 54.
ATTACH;FMTTYPE=image/jpeg:https://municipiozero.it/wp-content/uploads/2025
 /11/blo.jpg
CATEGORIES:Action
LOCATION:https://www.bing.com/maps/search?FORM=HDRSC6&q=bologna&cp=44.48870
 8%7E11.331673&lvl=11.7&style=r
END:VEVENT
BEGIN:VTIMEZONE
TZID:Europe/Rome
X-LIC-LOCATION:Europe/Rome
BEGIN:STANDARD
DTSTART:20251026T020000
TZOFFSETFROM:+0200
TZOFFSETTO:+0100
TZNAME:CET
END:STANDARD
END:VTIMEZONE
END:VCALENDAR