BEGIN:VCALENDAR
VERSION:2.0
PRODID:-//wp-events-plugin.com//6.6.3//EN
TZID:Europe/Rome
X-WR-TIMEZONE:Europe/Rome
BEGIN:VEVENT
UID:359@municipiozero.it
DTSTART;TZID=Europe/Rome:20260115T070000
DTEND;TZID=Europe/Rome:20260115T110000
DTSTAMP:20260109T095447Z
URL:https://municipiozero.it/events/blocchiamo-lo-sfratto-di-helena-3/
SUMMARY:Blocchiamo lo sfratto di Helena
DESCRIPTION:Appuntamento giovedì 15 gennaio ore 7 via Nicolò dall'Arca 54
 .
ATTACH;FMTTYPE=image/jpeg:https://municipiozero.it/wp-content/uploads/2026
 /01/15-gen.jpg
CATEGORIES:Action
LOCATION:https://www.bing.com/maps/search?FORM=HDRSC6&q=via+Nicol%C3%B2+dal
 l%27Arca+54&cp=44.514479%7E11.343819&lvl=16&style=r
END:VEVENT
BEGIN:VTIMEZONE
TZID:Europe/Rome
X-LIC-LOCATION:Europe/Rome
BEGIN:STANDARD
DTSTART:20251026T020000
TZOFFSETFROM:+0200
TZOFFSETTO:+0100
TZNAME:CET
END:STANDARD
END:VTIMEZONE
END:VCALENDAR