BEGIN:VCALENDAR
VERSION:2.0
PRODID:-//wp-events-plugin.com//6.6.3//EN
TZID:Europe/Rome
X-WR-TIMEZONE:Europe/Rome
BEGIN:VEVENT
UID:344@municipiozero.it
DTSTART;TZID=Europe/Rome;VALUE=DATE:20251115
DTEND;TZID=Europe/Rome;VALUE=DATE:20251124
DTSTAMP:20251110T083433Z
URL:https://municipiozero.it/events/bo-drag-festival/
SUMMARY:BO! Drag Festival
DESCRIPTION:Dal 15 al 23 novembre drag kings\, queens e creatures si unisco
 no per il primo festival nato dal basso.\nVi aspettano workshop\, talks\, 
 show\, mercatini e letture in drag per bambinx.
ATTACH;FMTTYPE=image/jpeg:https://municipiozero.it/wp-content/uploads/2025
 /11/bodrag.jpg
CATEGORIES:Action
LOCATION:https://www.bing.com/maps/search?FORM=HDRSC6&q=bologna&cp=44.48870
 8%7E11.331673&lvl=11.7&style=r
END:VEVENT
BEGIN:VTIMEZONE
TZID:Europe/Rome
X-LIC-LOCATION:Europe/Rome
BEGIN:STANDARD
DTSTART:20251026T020000
TZOFFSETFROM:+0200
TZOFFSETTO:+0100
TZNAME:CET
END:STANDARD
END:VTIMEZONE
END:VCALENDAR