BEGIN:VCALENDAR
VERSION:2.0
PRODID:-//wp-events-plugin.com//6.6.3//EN
TZID:Europe/Rome
X-WR-TIMEZONE:Europe/Rome
BEGIN:VEVENT
UID:281@municipiozero.it
DTSTART;TZID=Europe/Rome:20250509T183000
DTEND;TZID=Europe/Rome:20250509T203000
DTSTAMP:20250505T131502Z
URL:https://municipiozero.it/events/bonfire-setup-evento-di-configurazione
 -collettiva/
SUMMARY:Bonfire Setup - evento di configurazione collettiva
DESCRIPTION:Bonfire Setup: evento di configurazione collettiva\n\nTi sei ma
 i chiesto chi decide\, come funzionano i social network che usiamo ogni gi
 orno? Chi stabilisce le regole\, cosa è permesso e cosa no\, chi può ent
 rare e chi viene escluso?\n\nVieni al Bonfire Setup\, un incontro dove dec
 ideremo insieme come configurare\, governare e abitare uno spazio digitale
  tutto nostro.\n\nCosa faremo?\nDurante l' evento\, definiremo assieme le 
 basi della nostra nuova istanza di Bonfire - un social network open source
 \, federato e autogestito.\n\nDiscuteremo e decideremo:\n\n- Quali valori 
 e regole di convivenza vogliamo darci (code of conduct)\n- Come moderare l
 o spazio e gestire eventuali conflitti\n- Chi potrà registrarsi e parteci
 pare\n- Come adattare lo strumento ai bisogni della nostra comunità\n\nCo
 s'è Bonfire?\nBonfire è un software open source che ci permette di crear
 e il nostro social network\, libero da dark pattern e logiche di profitto.
  È "federato"\, cioè può comunicare con altre comunità online simili (
 come Mastodon e altre piattaforme del Fediverso)\, mantenendo però la pro
 pria autonomia e identità. È "modulare"\, ossia può essere modificato e
 d esteso per includere nuove funzionalità o modificare quelle esistenti p
 er adattarsi alle necessità specifiche di ogni comunità.\n\nNon serve es
 sere tecnici o programmatori per partecipare! Il Bonfire Setup è proprio 
 un momento per decidere insieme come vogliamo che funzioni il nostro spazi
 o\, quali valori promuovere e come gestirlo collettivamente.\n\nQuando e d
 ove: 9 maggio 2025\, H.18.30 presso Scift (Làbas)\, Vicolo Bolognetti 2\,
  Bologna
ATTACH;FMTTYPE=image/jpeg:https://municipiozero.it/wp-content/uploads/2025
 /05/bonfire.jpg
CATEGORIES:Làbas
LOCATION:Làbas\, Vicolo Bolognetti 2\, Bologna\, Italia
X-APPLE-STRUCTURED-LOCATION;VALUE=URI;X-ADDRESS=Vicolo Bolognetti 2\, Bolog
 na\, Italia;X-APPLE-RADIUS=100;X-TITLE=Làbas:geo:0,0
END:VEVENT
BEGIN:VTIMEZONE
TZID:Europe/Rome
X-LIC-LOCATION:Europe/Rome
BEGIN:DAYLIGHT
DTSTART:20250330T030000
TZOFFSETFROM:+0100
TZOFFSETTO:+0200
TZNAME:CEST
END:DAYLIGHT
END:VTIMEZONE
END:VCALENDAR