BEGIN:VCALENDAR
VERSION:2.0
PRODID:-//wp-events-plugin.com//6.6.3//EN
TZID:Europe/Rome
X-WR-TIMEZONE:Europe/Rome
BEGIN:VEVENT
UID:206@municipiozero.it
DTSTART;TZID=Europe/Rome:20241030T163000
DTEND;TZID=Europe/Rome:20241030T183000
DTSTAMP:20241025T122639Z
URL:https://municipiozero.it/events/call-for-activists-doposcuola-labas-2/
SUMMARY:Call for activists - doposcuola Làbas
DESCRIPTION:Mercoledì 30 ottobre alle 16:30 a Làbas\, vicolo Bolognetti 2
 .\n\nA seguire aperitivo
ATTACH;FMTTYPE=image/jpeg:https://municipiozero.it/wp-content/uploads/2024
 /10/photo_5825964094841275303_y-1.jpg
CATEGORIES:Làbas
LOCATION:Làbas\, Vicolo Bolognetti 2\, Bologna\, Italia
X-APPLE-STRUCTURED-LOCATION;VALUE=URI;X-ADDRESS=Vicolo Bolognetti 2\, Bolog
 na\, Italia;X-APPLE-RADIUS=100;X-TITLE=Làbas:geo:0,0
END:VEVENT
BEGIN:VTIMEZONE
TZID:Europe/Rome
X-LIC-LOCATION:Europe/Rome
BEGIN:STANDARD
DTSTART:20241027T020000
TZOFFSETFROM:+0200
TZOFFSETTO:+0100
TZNAME:CET
END:STANDARD
END:VTIMEZONE
END:VCALENDAR