BEGIN:VCALENDAR
VERSION:2.0
PRODID:-//wp-events-plugin.com//6.6.3//EN
TZID:Europe/Rome
X-WR-TIMEZONE:Europe/Rome
BEGIN:VEVENT
UID:142@municipiozero.it
DTSTART;TZID=Europe/Rome:20240619T183000
DTEND;TZID=Europe/Rome:20240619T213000
DTSTAMP:20240613T102214Z
URL:https://municipiozero.it/events/capitalismo-e-disagio-psichico-dibatti
 to-a-labas/
SUMMARY:Capitalismo e disagio psichico - dibattito a Làbas
DESCRIPTION: 𝐌𝐞𝐫𝐜𝐨𝐥𝐞𝐝𝐢̀ 𝟏𝟗/𝟎𝟔 𝐨
 𝐫𝐞 𝟏𝟖.𝟑𝟎 @𝐋𝐚̀𝐛𝐚𝐬 𝑪𝒂𝒑𝒊𝒕
 𝒂𝒍𝒊𝒔𝒎𝒐 𝒏𝒆𝒐𝒍𝒊𝒃𝒆𝒓𝒂𝒍𝒆 𝒆
  𝒅𝒊𝒔𝒂𝒈𝒊𝒐 𝒑𝒔𝒊𝒄𝒉𝒊𝒄𝒐\n\nSecondo 
 l’OMS\, nel 2030 la depressione sarà la malattia cronica più diffusa. 
 La diffusione di disturbi mentali e stati di disagio psicologico sta cresc
 endo a ritmi così inarrestabili che si parla di epidemia\, soprattutto tr
 a le persone più giovani.\n\nLe parole d’ordine del capitalismo neolibe
 rale – 𝐩𝐫𝐞𝐬𝐭𝐚𝐳𝐢𝐨𝐧𝐞 𝐞 𝐩𝐞𝐫
 𝐟𝐨𝐫𝐦𝐚𝐭𝐢𝐯𝐢𝐭𝐚̀ 𝐜𝐨𝐧𝐭𝐢𝐧
 𝐮𝐞 (𝐝𝐚𝐥𝐥𝐚 𝐬𝐜𝐮𝐨𝐥𝐚 𝐚𝐥 𝐥𝐚
 𝐯𝐨𝐫𝐨\, 𝐟𝐢𝐧𝐨 𝐚𝐥𝐥𝐞 𝐫𝐞𝐥𝐚𝐳
 𝐢𝐨𝐧𝐢 𝐬𝐨𝐜𝐢𝐚𝐥𝐢)\, 𝐩𝐫𝐞𝐜𝐚𝐫
 𝐢𝐳𝐳𝐚𝐳𝐢𝐨𝐧𝐞 𝐝𝐞𝐥𝐥’𝐞𝐬𝐢𝐬
 𝐭𝐞𝐧𝐳𝐚\, 𝐫𝐞𝐭𝐨𝐫𝐢𝐜𝐚 𝐝𝐞𝐥 𝐦
 𝐞𝐫𝐢𝐭𝐨\, 𝐫𝐞𝐬𝐩𝐨𝐧𝐬𝐚𝐛𝐢𝐥𝐢
 𝐭𝐚̀ 𝐢𝐧𝐝𝐢𝐯𝐢𝐝𝐮𝐚𝐥𝐞 𝐩𝐞𝐫 𝐪
 𝐮𝐞𝐬𝐭𝐢𝐨𝐧𝐢 𝐬𝐨𝐜𝐢𝐚𝐥𝐢 – sono cen
 trali nel determinare stati d’ansia\, depressivi\, disturbi di panico\, 
 isolamento sociale\, etc.\n\n𝐒𝐞\, 𝐪𝐮𝐢𝐧𝐝𝐢\, 𝐞̀ 
 𝐟𝐨𝐧𝐝𝐚𝐦𝐞𝐧𝐭𝐚𝐥𝐞 𝐜𝐨𝐦𝐩𝐫𝐞
 𝐧𝐝𝐞𝐫𝐞 𝐜𝐡𝐞 𝐢𝐥 𝐝𝐢𝐬𝐚𝐠𝐢𝐨 
 𝐩𝐬𝐢𝐜𝐡𝐢𝐜𝐨 𝐞̀ 𝐮𝐧𝐚 𝐪𝐮𝐞𝐬𝐭
 𝐢𝐨𝐧𝐞 𝐚𝐧𝐜𝐡𝐞 𝐩𝐨𝐥𝐢𝐭𝐢𝐜𝐚\, 
 𝐜𝐨𝐬𝐢̀ 𝐞̀ 𝐧𝐞𝐜𝐞𝐬𝐬𝐚𝐫𝐢𝐨 𝐩
 𝐨𝐥𝐢𝐭𝐢𝐜𝐢𝐳𝐳𝐚𝐫𝐞 𝐥𝐚 𝐜𝐮𝐫𝐚
 \, 𝐜𝐡𝐞 𝐧𝐨𝐧 𝐩𝐮𝐨̀ 𝐞𝐬𝐬𝐞𝐫𝐞 𝐚
 𝐛𝐛𝐚𝐧𝐝𝐨𝐧𝐚𝐭𝐚 𝐚𝐥 𝐬𝐞𝐭𝐭𝐨𝐫
 𝐞 𝐩𝐫𝐢𝐯𝐚𝐭𝐨 (𝐩𝐞𝐫𝐜𝐡𝐞́ 𝐜𝐮𝐫
 𝐚𝐫𝐬𝐢 𝐧𝐨𝐧 𝐬𝐢𝐚 𝐮𝐧 𝐩𝐫𝐢𝐯𝐢
 𝐥𝐞𝐠𝐢𝐨) 𝐞 𝐝𝐞𝐯𝐞 𝐞𝐬𝐬𝐞𝐫𝐞 𝐚
 𝐟𝐟𝐫𝐨𝐧𝐭𝐚𝐭𝐚 𝐢𝐧 𝐭𝐞𝐫𝐦𝐢𝐧𝐢
  𝐛𝐢𝐨-𝐩𝐬𝐢𝐜𝐨-𝐬𝐨𝐜𝐢𝐚𝐥𝐢.\n\nNe par
 liamo con 𝑭𝒆𝒅𝒆𝒓𝒊𝒄𝒐 𝑪𝒉𝒊𝒄𝒄𝒉𝒊\, 
 docente di Sociologia all'UniBo e di trasformazioni del legame sociale all
 'Istituto di ricerca di Psicoanalisi applicata e con 𝑴𝒂𝒓𝒄𝒐 
 𝑹𝒐𝒗𝒆𝒍𝒍𝒊\, autore di “𝑆𝑜𝑓𝑓𝑟𝑜 𝑑
 𝑢𝑛𝑞𝑢𝑒 𝑠𝑖𝑎𝑚𝑜. 𝐼𝑙 𝑑𝑖𝑠𝑎𝑔
 𝑖𝑜 𝑝𝑠𝑖𝑐ℎ𝑖𝑐𝑜 𝑛𝑒𝑙𝑙𝑎 𝑠𝑜𝑐
 𝑖𝑒𝑡𝑎̀ 𝑑𝑒𝑔𝑙𝑖 𝑖𝑛𝑑𝑖𝑣𝑖𝑑𝑢
 𝑖”
ATTACH;FMTTYPE=image/jpeg:https://municipiozero.it/wp-content/uploads/2024
 /06/photo_6003438276725294162_y.jpg
CATEGORIES:Làbas
LOCATION:Làbas\, Vicolo Bolognetti 2\, Bologna\, Italia
X-APPLE-STRUCTURED-LOCATION;VALUE=URI;X-ADDRESS=Vicolo Bolognetti 2\, Bolog
 na\, Italia;X-APPLE-RADIUS=100;X-TITLE=Làbas:geo:0,0
END:VEVENT
BEGIN:VTIMEZONE
TZID:Europe/Rome
X-LIC-LOCATION:Europe/Rome
BEGIN:DAYLIGHT
DTSTART:20240331T030000
TZOFFSETFROM:+0100
TZOFFSETTO:+0200
TZNAME:CEST
END:DAYLIGHT
END:VTIMEZONE
END:VCALENDAR