BEGIN:VCALENDAR
VERSION:2.0
PRODID:-//wp-events-plugin.com//6.6.3//EN
TZID:Europe/Rome
X-WR-TIMEZONE:Europe/Rome
BEGIN:VEVENT
UID:85@municipiozero.it
DTSTART;TZID=Europe/Rome;VALUE=DATE:20240420
DTEND;TZID=Europe/Rome;VALUE=DATE:20240421
DTSTAMP:20240303T215750Z
URL:https://municipiozero.it/events/catartica-2024/
SUMMARY:CATARTICA 2024
DESCRIPTION:Catartica nel 2024 compie 30 anni.\n\nPer festeggiare sarebbe s
 ervita una festa\, ne faremo più di una.\n\nBiglietti disponibili su http
 s://bit.ly/Catartica2024-Tour
ATTACH;FMTTYPE=image/jpeg:https://municipiozero.it/wp-content/uploads/2024
 /03/photo_5992407280290742384_x.jpg
CATEGORIES:Tpo
LOCATION:Tpo\, Via Casarini 17/5\, Bologna\, Italia
X-APPLE-STRUCTURED-LOCATION;VALUE=URI;X-ADDRESS=Via Casarini 17/5\, Bologna
 \, Italia;X-APPLE-RADIUS=100;X-TITLE=Tpo:geo:0,0
END:VEVENT
BEGIN:VTIMEZONE
TZID:Europe/Rome
X-LIC-LOCATION:Europe/Rome
BEGIN:DAYLIGHT
DTSTART:20240331T030000
TZOFFSETFROM:+0100
TZOFFSETTO:+0200
TZNAME:CEST
END:DAYLIGHT
END:VTIMEZONE
END:VCALENDAR