BEGIN:VCALENDAR
VERSION:2.0
PRODID:-//wp-events-plugin.com//6.6.3//EN
TZID:Europe/Rome
X-WR-TIMEZONE:Europe/Rome
BEGIN:VEVENT
UID:92@municipiozero.it
DTSTART;TZID=Europe/Rome:20240323T190000
DTEND;TZID=Europe/Rome:20240323T230000
DTSTAMP:20240311T145250Z
URL:https://municipiozero.it/events/cena-di-solidarieta-alla-vertenza-kami
 la-adl-cobas/
SUMMARY:Cena di Solidarietà alla vertenza Kamila - ADL COBAS
DESCRIPTION:𝗖𝗼𝗻𝘁𝗶𝗻𝘂𝗮 𝗹𝗮 𝗰𝗮𝗺𝗽𝗮
 𝗴𝗻𝗮 𝗱𝗶 𝘀𝗼𝘀𝘁𝗲𝗴𝗻𝗼 𝗮𝗹𝗹𝗮 
 𝘃𝗲𝗿𝘁𝗲𝗻𝘇𝗮 𝗞𝗮𝗺𝗶𝗹𝗮\n\nSabato 23 mar
 zo dalle 19.00: 𝐂𝐞𝐧𝐚 𝐝𝐢 𝐬𝐨𝐥𝐢𝐝𝐚𝐫𝐢
 𝐞𝐭𝐚̀ a cura delle cuoche di RETE DIRITTI IN CASA presso il circo
 lo PEDALE VELOCE via Melloni 4\, Parma.
ATTACH;FMTTYPE=image/jpeg:https://municipiozero.it/wp-content/uploads/2024
 /03/photo_6014776724098761659_x.jpg
CATEGORIES:Action
END:VEVENT
BEGIN:VTIMEZONE
TZID:Europe/Rome
X-LIC-LOCATION:Europe/Rome
BEGIN:STANDARD
DTSTART:20231029T020000
TZOFFSETFROM:+0200
TZOFFSETTO:+0100
TZNAME:CET
END:STANDARD
END:VTIMEZONE
END:VCALENDAR