BEGIN:VCALENDAR
VERSION:2.0
PRODID:-//wp-events-plugin.com//6.6.3//EN
TZID:Europe/Rome
X-WR-TIMEZONE:Europe/Rome
BEGIN:VEVENT
UID:149@municipiozero.it
DTSTART;TZID=Europe/Rome:20240718T200000
DTEND;TZID=Europe/Rome:20240718T230000
DTSTAMP:20240628T133653Z
URL:https://municipiozero.it/events/cena-per-le-spese-legali-al-tpo/
SUMMARY:Cena per le spese legali al TPO
DESCRIPTION:Tenetevi liber* giovedì 18 luglio per la cena per le spese leg
 ali dei Municipi Sociali di Bologna.\n\nDalle ore 20 al TPO.\n\nPer prenot
 azioni (entro il 13 luglio): 3346240717
ATTACH;FMTTYPE=image/jpeg:https://municipiozero.it/wp-content/uploads/2024
 /06/photo_6046460242574821147_y.jpg
CATEGORIES:Tpo
LOCATION:Tpo\, Via Casarini 17/5\, Bologna\, Italia
X-APPLE-STRUCTURED-LOCATION;VALUE=URI;X-ADDRESS=Via Casarini 17/5\, Bologna
 \, Italia;X-APPLE-RADIUS=100;X-TITLE=Tpo:geo:0,0
END:VEVENT
BEGIN:VTIMEZONE
TZID:Europe/Rome
X-LIC-LOCATION:Europe/Rome
BEGIN:DAYLIGHT
DTSTART:20240331T030000
TZOFFSETFROM:+0100
TZOFFSETTO:+0200
TZNAME:CEST
END:DAYLIGHT
END:VTIMEZONE
END:VCALENDAR