BEGIN:VCALENDAR
VERSION:2.0
PRODID:-//wp-events-plugin.com//6.6.3//EN
TZID:Europe/Rome
X-WR-TIMEZONE:Europe/Rome
BEGIN:VEVENT
UID:25@municipiozero.it
DTSTART;TZID=Europe/Rome:20231124T200000
DTEND;TZID=Europe/Rome:20231124T233000
DTSTAMP:20231116T125236Z
URL:https://municipiozero.it/events/cena-per-le-spese-legali-tpo/
SUMMARY:CENA PER LE SPESE LEGALI - TPO
DESCRIPTION:\n\n\n\n\n\n\nvenerdì 24 Novembre dalle ore 20.00\n ℂ𝔼
 ℕ𝔸 ℙ𝔼ℝ 𝕃𝔼 𝕊ℙ𝔼𝕊𝔼 𝕃𝔼𝔾𝔸𝕃𝕀 
 𝕄𝕌ℕ𝕀ℂ𝕀ℙ𝕀 𝕊𝕆ℂ𝕀𝔸𝕃𝕀 𝔻𝕀 𝔹
 𝕆𝕃𝕆𝔾ℕ𝔸! Manifestazioni\, azioni di piazza\, dare un tett
 o a delle persone e sgomberi\, possono portare a denunce e spese legali pe
 r i compagnx che hanno messo il proprio corpo e la propria faccia.\n 𝗡
 𝗲𝘀𝘀𝘂𝗻𝘅 𝗿𝗲𝘀𝘁𝗮 𝘀𝗼𝗹𝘅!\nVi aspett
 iamo per cena il 24.11.2023 ore 20 @Tpo\, costo 20 euro\, bere escluso.Bar
  aperto dalle ore 19.00𝘋𝘶𝘳𝘢𝘯𝘵𝘦 𝘭𝘢 𝘴𝘦𝘳
 𝘢𝘵𝘢 𝘤𝘪 𝘴𝘢𝘳𝘢̀ 𝘪𝘭 𝘭𝘢𝘯𝘤𝘪𝘰
  𝘥𝘦𝘭𝘭𝘢 𝘤𝘢𝘮𝘱𝘢𝘨𝘯𝘢 𝘳𝘢𝘤𝘤
 𝘰𝘭𝘵𝘢 𝘧𝘰𝘯𝘥𝘪 𝘴𝘱𝘦𝘴𝘦 𝘭𝘦𝘨
 𝘢𝘭𝘪 𝘥𝘦𝘪 𝘮𝘶𝘯𝘪𝘤𝘪𝘱𝘪 𝘴𝘰𝘤
 𝘪𝘢𝘭𝘪.\n\n Prenotazioni tramite messaggio WhatsApp entro il 21
 .11.2023 al numero 3294050131 indicando il numero di persone e eventuali 
 vegetariani o vegani.\n\n\n\n\n\n\n\n\n\n\n\n\n\n\n\n\n\n\n\n\n\n\n\n\n\n\
 n
ATTACH;FMTTYPE=image/jpeg:https://municipiozero.it/wp-content/uploads/2023
 /11/spese-legali.jpeg
CATEGORIES:Tpo
END:VEVENT
BEGIN:VTIMEZONE
TZID:Europe/Rome
X-LIC-LOCATION:Europe/Rome
BEGIN:STANDARD
DTSTART:20231029T020000
TZOFFSETFROM:+0200
TZOFFSETTO:+0100
TZNAME:CET
END:STANDARD
END:VTIMEZONE
END:VCALENDAR