BEGIN:VCALENDAR
VERSION:2.0
PRODID:-//wp-events-plugin.com//6.6.3//EN
TZID:Europe/Rome
X-WR-TIMEZONE:Europe/Rome
BEGIN:VEVENT
UID:303@municipiozero.it
DTSTART;TZID=Europe/Rome:20250912T200000
DTEND;TZID=Europe/Rome:20250912T233000
DTSTAMP:20250907T164255Z
URL:https://municipiozero.it/events/clap-your-hands-say-yeah-tpo/
SUMMARY:Clap your hands say yeah - TPO
DESCRIPTION:Venerdì 12 settembre 2025 al TPO\, via Casarini 17/5.\n\nLive 
 Clap your hands say yeah\, performing the debut album with support from Gl
 azyHaze.
ATTACH;FMTTYPE=image/jpeg:https://municipiozero.it/wp-content/uploads/2025
 /09/tpo.jpg
CATEGORIES:Tpo
LOCATION:Tpo\, Via Casarini 17/5\, Bologna\, Italia
X-APPLE-STRUCTURED-LOCATION;VALUE=URI;X-ADDRESS=Via Casarini 17/5\, Bologna
 \, Italia;X-APPLE-RADIUS=100;X-TITLE=Tpo:geo:0,0
END:VEVENT
BEGIN:VTIMEZONE
TZID:Europe/Rome
X-LIC-LOCATION:Europe/Rome
BEGIN:DAYLIGHT
DTSTART:20250330T030000
TZOFFSETFROM:+0100
TZOFFSETTO:+0200
TZNAME:CEST
END:DAYLIGHT
END:VTIMEZONE
END:VCALENDAR