BEGIN:VCALENDAR
VERSION:2.0
PRODID:-//wp-events-plugin.com//6.6.3//EN
TZID:Europe/Rome
X-WR-TIMEZONE:Europe/Rome
BEGIN:VEVENT
UID:237@municipiozero.it
DTSTART;TZID=Europe/Rome:20250207T210000
DTEND;TZID=Europe/Rome:20250207T230000
DTSTAMP:20250109T144957Z
URL:https://municipiozero.it/events/cmon-tigre-%f0%9d%98%9b%f0%9d%98%8c%f0
 %9d%98%95-%f0%9d%98%a0%f0%9d%98%8c%f0%9d%98%88%f0%9d%98%99%f0%9d%98%9a-%f0
 %9d%98%88%f0%9d%98%95%f0%9d%98%8b-%f0%9d%98%96%f0%9d%98%95%f0%9d%98%8c-%f0
 %9d%98%89/
SUMMARY:C'mon Tigre - 𝘛𝘌𝘕 𝘠𝘌𝘈𝘙𝘚 𝘈𝘕𝘋 𝘖
 𝘕𝘌 𝘉𝘐𝘎 𝘗𝘈𝘙𝘛𝘠 - TPO
DESCRIPTION:Il 𝟕 𝐟𝐞𝐛𝐛𝐫𝐚𝐢𝐨 𝟐𝟎𝟏𝟓 i C'm
 on tigre presentavano il loro album d'esordio omonimo\, uscito a ottobre 2
 014\, al TPO di Bologna.\n\nIl 𝟕 𝐟𝐞𝐛𝐛𝐫𝐚𝐢𝐨 𝟐
 𝟎𝟐𝟓\, a distanza di esattamente dieci anni\, festeggeranno - con 
 un concerto speciale al TPO - l'uscita della ristampa del primo disco in v
 inile\, 𝘛𝘌𝘕\, disponibile da aprile 2025.\n\nBiglietti disponibil
 i su Boxerticket https://www.boxerticket.it/eventi/cmon-tigre-ten-years-an
 d-one-big-party/\n\n&nbsp\;
ATTACH;FMTTYPE=image/jpeg:https://municipiozero.it/wp-content/uploads/2025
 /01/photo_5764688067012183330_y.jpg
CATEGORIES:Tpo
LOCATION:Tpo\, Via Casarini 17/5\, Bologna\, Italia
X-APPLE-STRUCTURED-LOCATION;VALUE=URI;X-ADDRESS=Via Casarini 17/5\, Bologna
 \, Italia;X-APPLE-RADIUS=100;X-TITLE=Tpo:geo:0,0
END:VEVENT
BEGIN:VTIMEZONE
TZID:Europe/Rome
X-LIC-LOCATION:Europe/Rome
BEGIN:STANDARD
DTSTART:20241027T020000
TZOFFSETFROM:+0200
TZOFFSETTO:+0100
TZNAME:CET
END:STANDARD
END:VTIMEZONE
END:VCALENDAR