BEGIN:VCALENDAR
VERSION:2.0
PRODID:-//wp-events-plugin.com//6.6.3//EN
TZID:Europe/Rome
X-WR-TIMEZONE:Europe/Rome
BEGIN:VEVENT
UID:369@municipiozero.it
DTSTART;TZID=Europe/Rome:20260220T183000
DTEND;TZID=Europe/Rome:20260220T203000
DTSTAMP:20260217T104245Z
URL:https://municipiozero.it/events/contro-i-cpr-per-la-democrazia/
SUMMARY:Contro i CPR per la democrazia
DESCRIPTION:Venerdì 20 febbraio ore 18.30 al TPO.
ATTACH;FMTTYPE=image/jpeg:https://municipiozero.it/wp-content/uploads/2026
 /02/no-cpr.jpg
CATEGORIES:Tpo
LOCATION:Tpo\, Via Casarini 17/5\, Bologna\, Italia
X-APPLE-STRUCTURED-LOCATION;VALUE=URI;X-ADDRESS=Via Casarini 17/5\, Bologna
 \, Italia;X-APPLE-RADIUS=100;X-TITLE=Tpo:geo:0,0
END:VEVENT
BEGIN:VTIMEZONE
TZID:Europe/Rome
X-LIC-LOCATION:Europe/Rome
BEGIN:STANDARD
DTSTART:20251026T020000
TZOFFSETFROM:+0200
TZOFFSETTO:+0100
TZNAME:CET
END:STANDARD
END:VTIMEZONE
END:VCALENDAR