BEGIN:VCALENDAR
VERSION:2.0
PRODID:-//wp-events-plugin.com//6.6.3//EN
TZID:Europe/Rome
X-WR-TIMEZONE:Europe/Rome
BEGIN:VEVENT
UID:11@municipiozero.it
DTSTART;TZID=Europe/Rome:20231022T160000
DTEND;TZID=Europe/Rome:20231022T190000
DTSTAMP:20231011T122402Z
URL:https://municipiozero.it/events/di-nuovo-market/
SUMMARY:DÌ NUOVO MARKET
DESCRIPTION:Torna il mercatino del riuso\, organizzato dalle scuole superio
 ri di Bologna!\n\nDomenica 22 ottobre\, dalle 16 alle 19\, al TPO in via C
 asarini 17/5!\n\n&nbsp\;
ATTACH;FMTTYPE=image/jpeg:https://municipiozero.it/wp-content/uploads/2023
 /10/di-nuovo-22-10.jpeg
CATEGORIES:Tpo
END:VEVENT
BEGIN:VTIMEZONE
TZID:Europe/Rome
X-LIC-LOCATION:Europe/Rome
BEGIN:DAYLIGHT
DTSTART:20230326T030000
TZOFFSETFROM:+0100
TZOFFSETTO:+0200
TZNAME:CEST
END:DAYLIGHT
END:VTIMEZONE
END:VCALENDAR