BEGIN:VCALENDAR
VERSION:2.0
PRODID:-//wp-events-plugin.com//6.6.3//EN
TZID:Europe/Rome
X-WR-TIMEZONE:Europe/Rome
BEGIN:VEVENT
UID:336@municipiozero.it
DTSTART;TZID=Europe/Rome:20251110T173000
DTEND;TZID=Europe/Rome:20251110T193000
DTSTAMP:20251105T173920Z
URL:https://municipiozero.it/events/dire-di-no-ti-mette-a-disagio/
SUMMARY:Dire di NO ti mette a disagio?
DESCRIPTION:Lunedì 10 novembre alle 17.30 al TPO\, a cura del Laboratorio 
 Ginecologico Popolare.
ATTACH;FMTTYPE=image/jpeg:https://municipiozero.it/wp-content/uploads/2025
 /11/do.jpg
CATEGORIES:Tpo
LOCATION:Tpo\, Via Casarini 17/5\, Bologna\, Italia
X-APPLE-STRUCTURED-LOCATION;VALUE=URI;X-ADDRESS=Via Casarini 17/5\, Bologna
 \, Italia;X-APPLE-RADIUS=100;X-TITLE=Tpo:geo:0,0
END:VEVENT
BEGIN:VTIMEZONE
TZID:Europe/Rome
X-LIC-LOCATION:Europe/Rome
BEGIN:STANDARD
DTSTART:20251026T020000
TZOFFSETFROM:+0200
TZOFFSETTO:+0100
TZNAME:CET
END:STANDARD
END:VTIMEZONE
END:VCALENDAR