BEGIN:VCALENDAR
VERSION:2.0
PRODID:-//wp-events-plugin.com//6.6.3//EN
TZID:Europe/Rome
X-WR-TIMEZONE:Europe/Rome
BEGIN:VEVENT
UID:112@municipiozero.it
DTSTART;TZID=Europe/Rome;VALUE=DATE:20240414
DTEND;TZID=Europe/Rome;VALUE=DATE:20240415
DTSTAMP:20240409T164305Z
URL:https://municipiozero.it/events/era-ora-market-labas-2/
SUMMARY:ERA ORA MARKET - Làbas
DESCRIPTION:Domenica 14 Aprile dalle 11 alle 19.\n\nNuovo appuntamento con 
 ERA ORA MARKET nel cortile e spazi interni di Vicolo Bolognetti 2.\n\n Abb
 igliamento vintage\,  illustrazione accessori\, handmade\,  dischi\,  libr
 i and 𝒎𝒐𝒓𝒆!\n\nEntrata Libera - Free Entry\n\nper candidarti c
 ome espositore scrivi a eraoramarket@gmail.com
ATTACH;FMTTYPE=image/jpeg:https://municipiozero.it/wp-content/uploads/2024
 /04/photo_5814310465587757405_x.jpg
CATEGORIES:Làbas
LOCATION:Làbas\, Vicolo Bolognetti 2\, Bologna\, Italia
X-APPLE-STRUCTURED-LOCATION;VALUE=URI;X-ADDRESS=Vicolo Bolognetti 2\, Bolog
 na\, Italia;X-APPLE-RADIUS=100;X-TITLE=Làbas:geo:0,0
END:VEVENT
BEGIN:VTIMEZONE
TZID:Europe/Rome
X-LIC-LOCATION:Europe/Rome
BEGIN:DAYLIGHT
DTSTART:20240331T030000
TZOFFSETFROM:+0100
TZOFFSETTO:+0200
TZNAME:CEST
END:DAYLIGHT
END:VTIMEZONE
END:VCALENDAR