BEGIN:VCALENDAR
VERSION:2.0
PRODID:-//wp-events-plugin.com//6.6.3//EN
TZID:Europe/Rome
X-WR-TIMEZONE:Europe/Rome
BEGIN:VEVENT
UID:159@municipiozero.it
DTSTART;TZID=Europe/Rome:20240921T110000
DTEND;TZID=Europe/Rome:20240922T210000
DTSTAMP:20240912T182052Z
URL:https://municipiozero.it/events/era-ora-market-labas-3/
SUMMARY:Era Ora Market - Làbas
DESCRIPTION:Sabato 21 e domenica 22\, dalle 11 alle 21 a Làbas\, vicolo Bo
 lognetti 2\, torna Era Ora Market!
ATTACH;FMTTYPE=image/jpeg:https://municipiozero.it/wp-content/uploads/2024
 /09/photo_5987956182343598696_y.jpg
CATEGORIES:Làbas
END:VEVENT
BEGIN:VTIMEZONE
TZID:Europe/Rome
X-LIC-LOCATION:Europe/Rome
BEGIN:DAYLIGHT
DTSTART:20240331T030000
TZOFFSETFROM:+0100
TZOFFSETTO:+0200
TZNAME:CEST
END:DAYLIGHT
END:VTIMEZONE
END:VCALENDAR