BEGIN:VCALENDAR
VERSION:2.0
PRODID:-//wp-events-plugin.com//6.6.3//EN
TZID:Europe/Rome
X-WR-TIMEZONE:Europe/Rome
BEGIN:VEVENT
UID:87@municipiozero.it
DTSTART;TZID=Europe/Rome;VALUE=DATE:20240317
DTEND;TZID=Europe/Rome;VALUE=DATE:20240318
DTSTAMP:20240303T220214Z
URL:https://municipiozero.it/events/era-ora-market-labas/
SUMMARY:ERA ORA MARKET - Làbas
DESCRIPTION:Nuovo appuntamento con ERA ORA MARKET nel bellissimo cortile e 
 spazi interni di LÀBAS in Vicolo Bolognetti 2 a Bologna.\n\nAbbigliamento
  vintage\, illustrazione\, accessori\, handmade\, dischi\, libri and more!
 \n\nVieni a spulciare non farti pregare!!!\n\nEntrata Libera - Free Entry\
 n\nPer candidarti come espositore scrivi a eraoramarket@gmail.com
ATTACH;FMTTYPE=image/jpeg:https://municipiozero.it/wp-content/uploads/2024
 /03/photo_5992407280290742387_x.jpg
CATEGORIES:Làbas
LOCATION:Làbas\, Vicolo Bolognetti 2\, Bologna\, Italia
X-APPLE-STRUCTURED-LOCATION;VALUE=URI;X-ADDRESS=Vicolo Bolognetti 2\, Bolog
 na\, Italia;X-APPLE-RADIUS=100;X-TITLE=Làbas:geo:0,0
END:VEVENT
BEGIN:VTIMEZONE
TZID:Europe/Rome
X-LIC-LOCATION:Europe/Rome
BEGIN:STANDARD
DTSTART:20231029T020000
TZOFFSETFROM:+0200
TZOFFSETTO:+0100
TZNAME:CET
END:STANDARD
END:VTIMEZONE
END:VCALENDAR