BEGIN:VCALENDAR
VERSION:2.0
PRODID:-//wp-events-plugin.com//6.6.3//EN
TZID:Europe/Rome
X-WR-TIMEZONE:Europe/Rome
BEGIN:VEVENT
UID:33@municipiozero.it
DTSTART;TZID=Europe/Rome;VALUE=DATE:20231209
DTEND;TZID=Europe/Rome;VALUE=DATE:20231211
DTSTAMP:20231201T164903Z
URL:https://municipiozero.it/events/era-ora-market-natalizio/
SUMMARY:ERA ORA MARKET NATALIZIO
DESCRIPTION:Nuovo DOPPIO appuntamento con ERA ORA MARKET\n\nSABATO 9 DICEMB
 RE e DOMENICA 10 DICEMBRE\nDalle 11 alle 19.30\n\nPresso LABAS in Vicolo B
 olognetti 2 a Bologna\n\nAbbigliamento vintage\, illustrazione\, serigrafi
 a\, accessori\, handmade\, dischi\, libri and more!\nVieni a spulciare non
  farti pregare!!!\n\nEntrata Libera - Free Entry\nper candidarti come espo
 sitore scrivi a eraoramarket@gmail.com
ATTACH;FMTTYPE=image/jpeg:https://municipiozero.it/wp-content/uploads/2023
 /11/eom.jpg
CATEGORIES:Làbas
LOCATION:Làbas\, Vicolo Bolognetti 2\, Bologna\, Italia
X-APPLE-STRUCTURED-LOCATION;VALUE=URI;X-ADDRESS=Vicolo Bolognetti 2\, Bolog
 na\, Italia;X-APPLE-RADIUS=100;X-TITLE=Làbas:geo:0,0
END:VEVENT
BEGIN:VTIMEZONE
TZID:Europe/Rome
X-LIC-LOCATION:Europe/Rome
BEGIN:STANDARD
DTSTART:20231029T020000
TZOFFSETFROM:+0200
TZOFFSETTO:+0100
TZNAME:CET
END:STANDARD
END:VTIMEZONE
END:VCALENDAR