BEGIN:VCALENDAR
VERSION:2.0
PRODID:-//wp-events-plugin.com//6.6.3//EN
TZID:Europe/Rome
X-WR-TIMEZONE:Europe/Rome
BEGIN:VEVENT
UID:133@municipiozero.it
DTSTART;TZID=Europe/Rome;VALUE=DATE:20240526
DTEND;TZID=Europe/Rome;VALUE=DATE:20240527
DTSTAMP:20240516T164230Z
URL:https://municipiozero.it/events/era-ora-market-x-dinuovo-market-labas/
SUMMARY:ERA ORA MARKET x DìNuovo Market - Làbas
DESCRIPTION:Nuovo appuntamento con ERA ORA MARKET nel bellissimo cortile e 
 spazi interni di LÀBAS in Vicolo Bolognetti 2 a Bologna\n\nAbbigliamento 
 vintage\, illustrazione\, accessori\, handmade\, dischi\, libri and more!\
 n\nVieni a spulciare non farti pregare!!!\n\nEntrata Libera - Free Entry\n
 \nper candidarti come espositore scrivi a eraoramarket@gmail.com
ATTACH;FMTTYPE=image/jpeg:https://municipiozero.it/wp-content/uploads/2024
 /05/438082870_958045856326020_7074396716292743273_n.jpg
CATEGORIES:Làbas
LOCATION:Làbas\, Vicolo Bolognetti 2\, Bologna\, Italia
X-APPLE-STRUCTURED-LOCATION;VALUE=URI;X-ADDRESS=Vicolo Bolognetti 2\, Bolog
 na\, Italia;X-APPLE-RADIUS=100;X-TITLE=Làbas:geo:0,0
END:VEVENT
BEGIN:VTIMEZONE
TZID:Europe/Rome
X-LIC-LOCATION:Europe/Rome
BEGIN:DAYLIGHT
DTSTART:20240331T030000
TZOFFSETFROM:+0100
TZOFFSETTO:+0200
TZNAME:CEST
END:DAYLIGHT
END:VTIMEZONE
END:VCALENDAR