BEGIN:VCALENDAR
VERSION:2.0
PRODID:-//wp-events-plugin.com//6.6.3//EN
TZID:Europe/Rome
X-WR-TIMEZONE:Europe/Rome
BEGIN:VEVENT
UID:341@municipiozero.it
DTSTART;TZID=Europe/Rome:20251115T180000
DTEND;TZID=Europe/Rome:20251115T233000
DTSTAMP:20251108T143917Z
URL:https://municipiozero.it/events/festa-del-mammut-film/
SUMMARY:Festa del Mammut Film
DESCRIPTION:Sabato 15 novembre al TPO. Dalle 18 proiezione di Le vie dei Fa
 rmaci\, dalle 21.30 Concerto di Lou del Bello’s\, dalle 23.30 Balla con 
 il Mammut sulle note di Mingo Dj.
ATTACH;FMTTYPE=image/jpeg:https://municipiozero.it/wp-content/uploads/2025
 /11/mammut.jpg
CATEGORIES:Tpo
LOCATION:Tpo\, Via Casarini 17/5\, Bologna\, Italia
X-APPLE-STRUCTURED-LOCATION;VALUE=URI;X-ADDRESS=Via Casarini 17/5\, Bologna
 \, Italia;X-APPLE-RADIUS=100;X-TITLE=Tpo:geo:0,0
END:VEVENT
BEGIN:VTIMEZONE
TZID:Europe/Rome
X-LIC-LOCATION:Europe/Rome
BEGIN:STANDARD
DTSTART:20251026T020000
TZOFFSETFROM:+0200
TZOFFSETTO:+0100
TZNAME:CET
END:STANDARD
END:VTIMEZONE
END:VCALENDAR