BEGIN:VCALENDAR
VERSION:2.0
PRODID:-//wp-events-plugin.com//6.6.3//EN
TZID:Europe/Rome
X-WR-TIMEZONE:Europe/Rome
BEGIN:VEVENT
UID:300@municipiozero.it
DTSTART;TZID=Europe/Rome:20250906T123000
DTEND;TZID=Europe/Rome:20250906T233000
DTSTAMP:20250818T145305Z
URL:https://municipiozero.it/events/festa-di-strada-di-via-broccaindosso-2
 /
SUMMARY:Festa di strada di via Broccaindosso
DESCRIPTION:Anche quest’anno il 6 settembre dalle 12:30 alle 24:00 prende
 remo parte alla 𝗙𝗲𝘀𝘁𝗮 𝗱𝗶 𝗩𝗶𝗮 𝗕𝗿𝗼
 𝗰𝗰𝗮𝗶𝗻𝗱𝗼𝘀𝘀𝗼\, la più longeva a Bologna.\nLo 
 faremo assieme a chi vive la via\, dall’Arena Orfeonica a chi la abita\,
  e assieme a chiunque trovi socialità e relazione aspetti fondamentali.\n
 Perchè in un periodo storico contraddistinto da guerre\, continue divisio
 ni e speculazioni da parte dei ricchi\, crediamo sia importante non isolar
 ci\, ma anzi vivere con gioia i momenti collettivi\, rivendicando una citt
 à a misura di chi la vive e non del turismo mordi e fuggi\, con spazi lib
 eri di aggregazione e confronto che siano fucine di nuovi orizzonti.\n\nSt
 are assieme\, fare aggregazione\, costruire il futuro.\nAvanti tutta!
ATTACH;FMTTYPE=image/jpeg:https://municipiozero.it/wp-content/uploads/2025
 /08/fes.jpg
CATEGORIES:Action
LOCATION:https://www.bing.com/maps?&ty=18&q=via%20broccaindosso&mb=44.49651
 ~11.346828~44.488773~11.363364&cardbg=%23F98745&dt=1755529200000&tt=Via%20
 Broccaindosso%2C%2040125%20Bologna%20BO&tsts0=%2526ty%253D18%2526q%253Dvia
 %252520broccaindosso%2526mb%253D44.49651~11.346828~44.488773~11.363364%252
 6cardbg%253D%252523F98745%2526dt%253D1755529200000&tstt0=Via%20Broccaindos
 so%2C%2040125%20Bologna%20BO&cp=44.492642~11.349811&lvl=16.01&pi=0&ftst=0&
 ftics=False&v=2&sV=2&form=S00027
END:VEVENT
BEGIN:VTIMEZONE
TZID:Europe/Rome
X-LIC-LOCATION:Europe/Rome
BEGIN:DAYLIGHT
DTSTART:20250330T030000
TZOFFSETFROM:+0100
TZOFFSETTO:+0200
TZNAME:CEST
END:DAYLIGHT
END:VTIMEZONE
END:VCALENDAR