BEGIN:VCALENDAR
VERSION:2.0
PRODID:-//wp-events-plugin.com//6.6.3//EN
TZID:Europe/Rome
X-WR-TIMEZONE:Europe/Rome
BEGIN:VEVENT
UID:152@municipiozero.it
DTSTART;TZID=Europe/Rome;VALUE=DATE:20240907
DTEND;TZID=Europe/Rome;VALUE=DATE:20240908
DTSTAMP:20240830T140458Z
URL:https://municipiozero.it/events/festa-di-strada-di-via-broccaindosso/
SUMMARY:Festa di strada di via Broccaindosso
DESCRIPTION:VIVA LA FESTA DI STRADA! VIVA VIA BROCCANDOSSO!\n\nTorna la fes
 ta di strada di via Broccaindosso!\n\nProgramma:\n\nARENA ORFEONICA\n\n15.
 30 Tornei di ping-pong e biliardino\n\n17.00 Caccia al Tesoro 19.00 Concor
 so di Bellezza Orfeonica\n\n21.30 Tuttx in pista con Valeria\n\nLABAS \n\n
 dalle 12:30 Polleg area in Bolognetti Beach w/ straio e gelatini\n\n13.00 
 Street Food Ghanese\n\ndalle 14.00 COCOMERATA PRO PALEStINA\n\nDalle 15.00
  Tarocchi al Pozzo dei Desideri\n\n17.00 Cabaret w/ Fucine Vulcaniche\n\nd
 alle 19.00 Il grande ritorno della Pizza di Làbas\n\ndalle 22.00 Disco fu
 nk night w/ Dj 44A\n\nVIA BROCCAINDOSSO \n\n12.30 Taglio del nostro (civ. 
 79)\n\n13.00 Pranzo in strada con amici e vicini di casa\n\n15.00 Torneo d
 i briscola (civ. 69a)\n\n18.00 Torneo tiro alla fune (civ. 51)\n\n20.00 Ce
 na in strada con amici e vicini di casa\n\nNel corso della giornata Pesca 
 Insolita Meravigliosa (civ.51)\n\nLe iscrizioni ai tornei si raccolgono la
  mattina al civ. 50 \n\nAccessi da Via Broccoindosso e Vicolo Bolognetti 2
ATTACH;FMTTYPE=image/jpeg:https://municipiozero.it/wp-content/uploads/2024
 /08/photo_5915883482905690449_y.jpg
CATEGORIES:Làbas
END:VEVENT
BEGIN:VTIMEZONE
TZID:Europe/Rome
X-LIC-LOCATION:Europe/Rome
BEGIN:DAYLIGHT
DTSTART:20240331T030000
TZOFFSETFROM:+0100
TZOFFSETTO:+0200
TZNAME:CEST
END:DAYLIGHT
END:VTIMEZONE
END:VCALENDAR