BEGIN:VCALENDAR
VERSION:2.0
PRODID:-//wp-events-plugin.com//6.6.3//EN
TZID:Europe/Rome
X-WR-TIMEZONE:Europe/Rome
BEGIN:VEVENT
UID:161@municipiozero.it
DTSTART;TZID=Europe/Rome:20240918T180000
DTEND;TZID=Europe/Rome:20240918T233000
DTSTAMP:20240913T171915Z
URL:https://municipiozero.it/events/festival-del-pacco-da-giu/
SUMMARY:Festival del Pacco da Giù
DESCRIPTION:Apertura alle ore 18\, Làbas\, vicolo Bolognetti 2.\n\nUna ser
 ata che celebra la condivisione\, la comunità e le radici meridionali nel
  cuore di Bologna.\n\nIl Festival del Pacco da Giù è un momento di resis
 tenza culturale e gastronomica\, dove ognuno porta qualcosa di sé e del p
 roprio Sud: un pacco da giù pieno di sapori autentici\, dai salumi ai for
 maggi\, dalle conserve alle altre specialità che raccontano storie di cas
 a.\n\nÈ l’occasione per scambiare cibo\, esperienze e storie\, in uno s
 pazio comune che si riempie di profumi e tradizioni. Non solo si mangia in
 sieme\, ma si condivide davvero\, creando una rete di sapori e legami.\n\n
 La serata sarà scandita dai ritmi popolari di tarantella e pizzica\, per 
 un vortice di energia collettiva che farà ballare e unire tutti in un’u
 nica grande festa.
ATTACH;FMTTYPE=image/jpeg:https://municipiozero.it/wp-content/uploads/2024
 /09/photo_5990340812610847176_y.jpg
CATEGORIES:Làbas
END:VEVENT
BEGIN:VTIMEZONE
TZID:Europe/Rome
X-LIC-LOCATION:Europe/Rome
BEGIN:DAYLIGHT
DTSTART:20240331T030000
TZOFFSETFROM:+0100
TZOFFSETTO:+0200
TZNAME:CEST
END:DAYLIGHT
END:VTIMEZONE
END:VCALENDAR