BEGIN:VCALENDAR
VERSION:2.0
PRODID:-//wp-events-plugin.com//6.6.3//EN
TZID:Europe/Rome
X-WR-TIMEZONE:Europe/Rome
BEGIN:VEVENT
UID:381@municipiozero.it
DTSTART;TZID=Europe/Rome:20260422T170000
DTEND;TZID=Europe/Rome:20260422T200000
DTSTAMP:20260419T185354Z
URL:https://municipiozero.it/events/gazacalling-bologna-salpa-con-la-floti
 lla/
SUMMARY:GazaCalling! Bologna salpa con la Flotilla
DESCRIPTION:Mercoledì 22 aprile a Làbas.
ATTACH;FMTTYPE=image/jpeg:https://municipiozero.it/wp-content/uploads/2026
 /04/gaza22.jpeg
CATEGORIES:Làbas
LOCATION:Làbas\, Vicolo Bolognetti 2\, Bologna\, Italia
X-APPLE-STRUCTURED-LOCATION;VALUE=URI;X-ADDRESS=Vicolo Bolognetti 2\, Bolog
 na\, Italia;X-APPLE-RADIUS=100;X-TITLE=Làbas:geo:0,0
END:VEVENT
BEGIN:VTIMEZONE
TZID:Europe/Rome
X-LIC-LOCATION:Europe/Rome
BEGIN:DAYLIGHT
DTSTART:20260329T030000
TZOFFSETFROM:+0100
TZOFFSETTO:+0200
TZNAME:CEST
END:DAYLIGHT
END:VTIMEZONE
END:VCALENDAR