BEGIN:VCALENDAR
VERSION:2.0
PRODID:-//wp-events-plugin.com//6.6.3//EN
TZID:Europe/Rome
X-WR-TIMEZONE:Europe/Rome
BEGIN:VEVENT
UID:114@municipiozero.it
DTSTART;TZID=Europe/Rome:20240414T100000
DTEND;TZID=Europe/Rome:20240414T130000
DTSTAMP:20240411T163453Z
URL:https://municipiozero.it/events/human-flow-tpo/
SUMMARY:HUMAN FLOW - TPO
DESCRIPTION:Domenica 14 aprile dalle 10 alle 13 si terrà presso la palestr
 a popolare TPO un laboratorio introduttivo sul metodo HumanFlow.\n\nLa quo
 ta di iscrizione è di 10€\, lavoreremo scalzi e consigliamo di portare 
 un tappetino\, le corde per il Flow le metteremo noi a disposizione.\n\nSe
  si desiderano maggiori informazioni o per confermare la partecipazione si
  può scrivere a humanflowbo@gmail.com
ATTACH;FMTTYPE=image/jpeg:https://municipiozero.it/wp-content/uploads/2024
 /04/photo_5816948382961353380_y.jpg
CATEGORIES:Tpo
LOCATION:Tpo\, Via Casarini 17/5\, Bologna\, Italia
X-APPLE-STRUCTURED-LOCATION;VALUE=URI;X-ADDRESS=Via Casarini 17/5\, Bologna
 \, Italia;X-APPLE-RADIUS=100;X-TITLE=Tpo:geo:0,0
END:VEVENT
BEGIN:VTIMEZONE
TZID:Europe/Rome
X-LIC-LOCATION:Europe/Rome
BEGIN:DAYLIGHT
DTSTART:20240331T030000
TZOFFSETFROM:+0100
TZOFFSETTO:+0200
TZNAME:CEST
END:DAYLIGHT
END:VTIMEZONE
END:VCALENDAR