BEGIN:VCALENDAR
VERSION:2.0
PRODID:-//wp-events-plugin.com//6.6.3//EN
TZID:Europe/Rome
X-WR-TIMEZONE:Europe/Rome
BEGIN:VEVENT
UID:194@municipiozero.it
DTSTART;TZID=Europe/Rome;VALUE=DATE:20241027
DTEND;TZID=Europe/Rome;VALUE=DATE:20241028
DTSTAMP:20241009T090234Z
URL:https://municipiozero.it/events/improved-sequence-ii-2/
SUMMARY:Improved Sequence II
DESCRIPTION:27 Ottobre at TPO\n\n→ Zeke\n\n→ Baratro\n\n→ ZU\n\n→ C
 herubs\n\n→ New Age Doom\n\n→ Ak'chamel\n\n→ Lleroy
ATTACH;FMTTYPE=image/jpeg:https://municipiozero.it/wp-content/uploads/2024
 /10/photo_5778346342186336713_x.jpg
CATEGORIES:Tpo
LOCATION:Tpo\, Via Casarini 17/5\, Bologna\, Italia
X-APPLE-STRUCTURED-LOCATION;VALUE=URI;X-ADDRESS=Via Casarini 17/5\, Bologna
 \, Italia;X-APPLE-RADIUS=100;X-TITLE=Tpo:geo:0,0
END:VEVENT
BEGIN:VTIMEZONE
TZID:Europe/Rome
X-LIC-LOCATION:Europe/Rome
BEGIN:DAYLIGHT
DTSTART:20240331T030000
TZOFFSETFROM:+0100
TZOFFSETTO:+0200
TZNAME:CEST
END:DAYLIGHT
BEGIN:STANDARD
DTSTART:20241027T020000
TZOFFSETFROM:+0200
TZOFFSETTO:+0100
TZNAME:CET
END:STANDARD
END:VTIMEZONE
END:VCALENDAR