BEGIN:VCALENDAR
VERSION:2.0
PRODID:-//wp-events-plugin.com//6.6.3//EN
TZID:Europe/Rome
X-WR-TIMEZONE:Europe/Rome
BEGIN:VEVENT
UID:267@municipiozero.it
DTSTART;TZID=Europe/Rome:20250314T183000
DTEND;TZID=Europe/Rome:20250314T203000
DTSTAMP:20250304T091515Z
URL:https://municipiozero.it/events/inaugurazione-di-scift/
SUMMARY:Inaugurazione di SCIFT
DESCRIPTION:Venerdì 14 marzo\, dalle 18:30 a Làbas\, inauguriamo insieme 
 SCIFT\, la nuova Officina di scienza\, climattivismo\, immaginazione\, for
 mazione e tecnologia.\n\nQui maggiori informazioni sui progetti e su come 
 partecipare!\n
ATTACH;FMTTYPE=image/jpeg:https://municipiozero.it/wp-content/uploads/2025
 /03/photo_2025-03-04_10-14-37.jpg
CATEGORIES:Làbas
LOCATION:Làbas\, Vicolo Bolognetti 2\, Bologna\, Italia
X-APPLE-STRUCTURED-LOCATION;VALUE=URI;X-ADDRESS=Vicolo Bolognetti 2\, Bolog
 na\, Italia;X-APPLE-RADIUS=100;X-TITLE=Làbas:geo:0,0
END:VEVENT
BEGIN:VTIMEZONE
TZID:Europe/Rome
X-LIC-LOCATION:Europe/Rome
BEGIN:STANDARD
DTSTART:20241027T020000
TZOFFSETFROM:+0200
TZOFFSETTO:+0100
TZNAME:CET
END:STANDARD
END:VTIMEZONE
END:VCALENDAR