BEGIN:VCALENDAR
VERSION:2.0
PRODID:-//wp-events-plugin.com//6.6.3//EN
TZID:Europe/Rome
X-WR-TIMEZONE:Europe/Rome
BEGIN:VEVENT
UID:277@municipiozero.it
DTSTART;TZID=Europe/Rome:20250410T183000
DTEND;TZID=Europe/Rome:20250410T203000
DTSTAMP:20250407T073723Z
URL:https://municipiozero.it/events/incontro-aperto-di-scift/
SUMMARY:Incontro aperto di SCIFT
DESCRIPTION:Giovedì 10 aprile alle 18:30\, incontro aperto di SCIFT\, l'of
 ficina di scienza\, tecnologia e climattivismo.\n\nConosciamoci\, aggiungi
 amo idee\, pratichiamo climattivismo\, rivoluzioniamo il tech!
ATTACH;FMTTYPE=image/jpeg:https://municipiozero.it/wp-content/uploads/2025
 /04/scift.jpg
CATEGORIES:Làbas
LOCATION:Làbas\, Vicolo Bolognetti 2\, Bologna\, Italia
X-APPLE-STRUCTURED-LOCATION;VALUE=URI;X-ADDRESS=Vicolo Bolognetti 2\, Bolog
 na\, Italia;X-APPLE-RADIUS=100;X-TITLE=Làbas:geo:0,0
END:VEVENT
BEGIN:VTIMEZONE
TZID:Europe/Rome
X-LIC-LOCATION:Europe/Rome
BEGIN:DAYLIGHT
DTSTART:20250330T030000
TZOFFSETFROM:+0100
TZOFFSETTO:+0200
TZNAME:CEST
END:DAYLIGHT
END:VTIMEZONE
END:VCALENDAR