BEGIN:VCALENDAR
VERSION:2.0
PRODID:-//wp-events-plugin.com//6.6.3//EN
TZID:Europe/Rome
X-WR-TIMEZONE:Europe/Rome
BEGIN:VEVENT
UID:26@municipiozero.it
DTSTART;TZID=Europe/Rome:20231121T200000
DTEND;TZID=Europe/Rome:20231121T220000
DTSTAMP:20231116T144030Z
URL:https://municipiozero.it/events/infertilita-e-salute-riproduttiva-stor
 ie-di-ordinari-tabu/
SUMMARY:(in)Fertilità e salute riproduttiva - Storie di ordinari tabù
DESCRIPTION:In quest’ultimo anno\, durante il percorso collettivo di stud
 io e approfondimento sulla sfera della salute sessuale e riproduttiva\, il
  Laboratorio Salute Popolare viene a contatto con diverse figure con cui s
 i intraprendono discussioni\, laboratori\, momenti formativi e divulgativi
 .\n\nEd è così che incontriamo il progetto “𝑬 𝒖𝒏 𝒇𝒊𝒈
 𝒍𝒊𝒐\, 𝒒𝒖𝒂𝒏𝒅𝒐?” 𝐧𝐚𝐭𝐨 𝐧𝐞𝐥 
 𝟐𝟎𝟐𝟎 𝐝𝐚𝐥𝐥𝐚 𝐬𝐩𝐨𝐧𝐭𝐚𝐧𝐞𝐚
  𝐧𝐞𝐜𝐞𝐬𝐬𝐢𝐭𝐚̀ 𝐝𝐢 𝐮𝐧 𝐠𝐫𝐮𝐩
 𝐩𝐨 𝐝𝐢 𝐚𝐦𝐢𝐜𝐡𝐞 𝐝𝐢 𝐜𝐨𝐧𝐝𝐢
 𝐯𝐢𝐝𝐞𝐫𝐞 𝐥𝐞 𝐥𝐨𝐫𝐨 𝐬𝐭𝐨𝐫𝐢
 𝐞 𝐞 𝐯𝐢𝐬𝐬𝐮𝐭𝐢 𝐝𝐢 “𝐨𝐫𝐝𝐢𝐧
 𝐚𝐫𝐢𝐞 𝐝𝐢𝐟𝐟𝐢𝐜𝐨𝐥𝐭𝐚̀” 𝐧𝐞
 𝐥 𝐜𝐨𝐧𝐜𝐞𝐩𝐢𝐦𝐞𝐧𝐭𝐨\, 𝐜𝐡𝐞 𝐧
 𝐨𝐧 𝐭𝐫𝐨𝐯𝐚𝐧𝐨 𝐚𝐥𝐭𝐫𝐨 𝐬𝐩𝐚
 𝐳𝐢𝐨 𝐝𝐢 𝐚𝐧𝐚𝐥𝐢𝐬𝐢 𝐧𝐞𝐥𝐥𝐚 
 𝐬𝐨𝐜𝐢𝐞𝐭𝐚̀.\n\n\n𝗖𝗶 𝘃𝗲𝗱𝗶𝗮𝗺𝗼
  𝗠𝗮𝗿𝘁𝗲𝗱𝗶̀ 𝟮𝟭 𝗻𝗼𝘃𝗲𝗺𝗯𝗿𝗲 
 𝗱𝗮𝗹𝗹𝗲 𝗼𝗿𝗲 𝟮𝟬.𝟬𝟬 𝗮 𝗟𝗮̀𝗯
 𝗮𝘀\, 𝗶𝗻 𝗩𝗶𝗰𝗼𝗹𝗼 𝗕𝗼𝗹𝗼𝗴𝗻𝗲
 𝘁𝘁𝗶 𝟮.\n𝗩𝗶 𝗮𝘀𝗽𝗲𝘁𝘁𝗶𝗮𝗺𝗼 𝗻
 𝘂𝗺𝗲𝗿𝗼𝘀ə!
ATTACH;FMTTYPE=image/jpeg:https://municipiozero.it/wp-content/uploads/2023
 /11/lsp.jpg
CATEGORIES:Làbas
END:VEVENT
BEGIN:VTIMEZONE
TZID:Europe/Rome
X-LIC-LOCATION:Europe/Rome
BEGIN:STANDARD
DTSTART:20231029T020000
TZOFFSETFROM:+0200
TZOFFSETTO:+0100
TZNAME:CET
END:STANDARD
END:VTIMEZONE
END:VCALENDAR