BEGIN:VCALENDAR
VERSION:2.0
PRODID:-//wp-events-plugin.com//6.6.3//EN
TZID:Europe/Rome
X-WR-TIMEZONE:Europe/Rome
BEGIN:VEVENT
UID:61@municipiozero.it
DTSTART;TZID=Europe/Rome:20240217T210000
DTEND;TZID=Europe/Rome:20240217T234500
DTSTAMP:20240205T120816Z
URL:https://municipiozero.it/events/kaos-dj-craim-fastidio-tour-2024/
SUMMARY:KAOS & DJ CRAIM - FASTIDIO TOUR 2024
DESCRIPTION:𝗞𝗔𝗢𝗦 &amp\; 𝗗𝗝 𝗖𝗥𝗔𝗜𝗠 tornano d
 i nuovo insieme sul palco per il 𝗙𝗔𝗦𝗧𝗜𝗗𝗜𝗢 𝗧𝗢
 𝗨𝗥 𝟮𝟬𝟮𝟰: ➤ 17/02/2024 ➤ TPO - Bologna ➤ Biglietti:
  €15 + ddp ➤ Prevendite ora disponibili: https://www.boxerticket.it/ev
 enti/kaos-dj-craim-fastidio-live-tour-2024/ --\n\nL'album 𝗙𝗔𝗦𝗧
 𝗜𝗗𝗜𝗢 usciva 27 anni fa: era il 1996\, e con lui prese il via u
 na storia musicale che arriva fino ad oggi. Negli ultimi 𝟮𝟱 𝗮𝗻
 𝗻𝗶 non è mai stato suonato dal vivo\, perché si persero le 𝘀
 𝘁𝗿𝘂𝗺𝗲𝗻𝘁𝗮𝗹𝗶 𝗼𝗿𝗶𝗴𝗶𝗻𝗮𝗹
 𝗶 ora finalmente recuperate: vi aspettiamo al 𝗙𝗔𝗦𝗧𝗜𝗗
 𝗜𝗢 𝗧𝗢𝗨𝗥 𝟮𝟬𝟮𝟰 
ATTACH;FMTTYPE=image/jpeg:https://municipiozero.it/wp-content/uploads/2024
 /02/photo_5911250639122449108_x.jpg
CATEGORIES:Tpo
LOCATION:Tpo\, Via Casarini 17/5\, Bologna\, Italia
X-APPLE-STRUCTURED-LOCATION;VALUE=URI;X-ADDRESS=Via Casarini 17/5\, Bologna
 \, Italia;X-APPLE-RADIUS=100;X-TITLE=Tpo:geo:0,0
END:VEVENT
BEGIN:VTIMEZONE
TZID:Europe/Rome
X-LIC-LOCATION:Europe/Rome
BEGIN:STANDARD
DTSTART:20231029T020000
TZOFFSETFROM:+0200
TZOFFSETTO:+0100
TZNAME:CET
END:STANDARD
END:VTIMEZONE
END:VCALENDAR