BEGIN:VCALENDAR
VERSION:2.0
PRODID:-//wp-events-plugin.com//6.6.3//EN
TZID:Europe/Rome
X-WR-TIMEZONE:Europe/Rome
BEGIN:VEVENT
UID:279@municipiozero.it
DTSTART;TZID=Europe/Rome:20250506T173000
DTEND;TZID=Europe/Rome:20250506T193000
DTSTAMP:20250430T095121Z
URL:https://municipiozero.it/events/la-civilita-non-si-sospende-presidio-a
 l-tar/
SUMMARY:La civilità non si sospende - Presidio al TAR
DESCRIPTION:Presidio al TAR di Bologna\, via d'azeglio 54\, martedì 6 magg
 io alle 17:30.\n\nIl tentativo di bloccare le modalità d’accesso al sui
 cidio medicalmente assistito\, frutto di un ricorso politico\, attacca il 
 diritto all’autodeterminazione.\n\nNoi continueremo a batterci per una l
 egge regionale sul SMA che garantisca percorsi chiari\, accessibili e risp
 ettosi per chi chiede di essere accompagnat senza giudizio.\n\nLa dignità
  non ammette sospensioni.\n\nNeanche di fronte alle paure o alle resistenz
 e culturali di conservatori e oscurantisti che guarda caso sono gli stessi
  che minano il diritto all'affermazione di genere e all'aborto.
ATTACH;FMTTYPE=image/jpeg:https://municipiozero.it/wp-content/uploads/2025
 /04/photo_2025-04-30_11-46-49.jpg
CATEGORIES:Action
LOCATION:https://www.bing.com/maps?&ty=18&q=tar%20bologna&ss=ypid.YN1369x11
 5398457&mb=44.494661~11.346924~44.48687~11.363575&description=Strada%20Mag
 giore%2053%20-%2040125%20Bologna%20%28BO%29%C2%B7Servizio%20pubblico%20e%2
 0governo&cardbg=%2388979C&dt=1746007200000&tt=Tribunale%20Amministrativo%2
 0Regionale%20Per%20L%27Emilia%20-%20Romagna&tsts0=%2526ty%253D18%2526q%253
 Dtar%252520bologna%2526ss%253Dypid.YN1369x115398457%2526mb%253D44.494661~1
 1.346924~44.48687~11.363575%2526description%253DStrada%252520Maggiore%2525
 2053%252520-%25252040125%252520Bologna%252520%252528BO%252529%2525C2%2525B
 7Servizio%252520pubblico%252520e%252520governo%2526cardbg%253D%25252388979
 C%2526dt%253D1746007200000&tstt0=Tribunale%20Amministrativo%20Regionale%20
 Per%20L%27Emilia%20-%20Romagna&cp=44.490765~11.349928&lvl=16&pi=0&ftst=0&f
 tics=False&v=2&sV=2&form=S00027
END:VEVENT
BEGIN:VTIMEZONE
TZID:Europe/Rome
X-LIC-LOCATION:Europe/Rome
BEGIN:DAYLIGHT
DTSTART:20250330T030000
TZOFFSETFROM:+0100
TZOFFSETTO:+0200
TZNAME:CEST
END:DAYLIGHT
END:VTIMEZONE
END:VCALENDAR