BEGIN:VCALENDAR
VERSION:2.0
PRODID:-//wp-events-plugin.com//6.6.3//EN
TZID:Europe/Rome
X-WR-TIMEZONE:Europe/Rome
BEGIN:VEVENT
UID:349@municipiozero.it
DTSTART;TZID=Europe/Rome:20251203T183000
DTEND;TZID=Europe/Rome:20251203T203000
DTSTAMP:20251130T111802Z
URL:https://municipiozero.it/events/la-crisi-e-aperta-la-lotta-e-la-chiave
 -per-costruire-luscita/
SUMMARY:La crisi è aperta. La lotta è la chiave per costruire l’uscita.
DESCRIPTION:Mercoledì 3 dicembre alle 18.30 a Làbas.
ATTACH;FMTTYPE=image/jpeg:https://municipiozero.it/wp-content/uploads/2025
 /11/la-lotta.jpg
CATEGORIES:Làbas
LOCATION:Làbas\, Vicolo Bolognetti 2\, Bologna\, Italia
X-APPLE-STRUCTURED-LOCATION;VALUE=URI;X-ADDRESS=Vicolo Bolognetti 2\, Bolog
 na\, Italia;X-APPLE-RADIUS=100;X-TITLE=Làbas:geo:0,0
END:VEVENT
BEGIN:VTIMEZONE
TZID:Europe/Rome
X-LIC-LOCATION:Europe/Rome
BEGIN:STANDARD
DTSTART:20251026T020000
TZOFFSETFROM:+0200
TZOFFSETTO:+0100
TZNAME:CET
END:STANDARD
END:VTIMEZONE
END:VCALENDAR