BEGIN:VCALENDAR
VERSION:2.0
PRODID:-//wp-events-plugin.com//6.6.3//EN
TZID:Europe/Rome
X-WR-TIMEZONE:Europe/Rome
BEGIN:VEVENT
UID:164@municipiozero.it
DTSTART;TZID=Europe/Rome:20240925T180000
DTEND;TZID=Europe/Rome:20240925T233000
DTSTAMP:20240918T141148Z
URL:https://municipiozero.it/events/labas4africa-il-mercoledi-di-labas/
SUMMARY:Làbas4Africa - il Mercoledì di Làbas
DESCRIPTION:Apertura alle ore 18.\n\n“Danza l’Africa Bologna”: gli al
 lievi del corso di danza condotto da Michela Di Crescenzo saranno i protag
 onisti di una serata di balli e musica dal vivo dell’Africa occidentale.
ATTACH;FMTTYPE=image/jpeg:https://municipiozero.it/wp-content/uploads/2024
 /09/photo_6006084668069364337_x.jpg
CATEGORIES:Làbas
END:VEVENT
BEGIN:VTIMEZONE
TZID:Europe/Rome
X-LIC-LOCATION:Europe/Rome
BEGIN:DAYLIGHT
DTSTART:20240331T030000
TZOFFSETFROM:+0100
TZOFFSETTO:+0200
TZNAME:CEST
END:DAYLIGHT
END:VTIMEZONE
END:VCALENDAR